BEGIN:VCALENDAR
PRODID:-//Microsoft Corporation//Outlook 12.0 MIMEDIR//EN
VERSION:2.0
METHOD:PUBLISH
X-MS-OLK-FORCEINSPECTOROPEN:TRUE
BEGIN:VEVENT
CLASS:PUBLIC
CREATED:20260419T161310Z
DESCRIPTION:En este webinar te mostraremos cómo analizar si tus piezas encajan, a través del digitalizado virtual. Lo haremos digitalizando una puerta de automóvil y el marco de la carrocería.\n \nAcompáñanos en este webinar práctico en el que se mostrará cómo se digitaliza una puerta de automóvil y el pilar de la carrocería, para poder analizar su ajuste y comprobar interferencias. \n \nUna medida que sólo es posible, gracias a la creación de piezas en 3D que nos permite analizar las dificultades, aunque no podamos acceder a la zona de interface. \n \nActualmente, es necesario aprender a manejar todas las aplicaciones que nos permitan desarrollar los trabajos de producción de una manera práctica y directa, por eso, les recomendamos asistir a esta sesión en la que podrán conocer las virtudes de la medición por digitalizado de la mano de nuestro especialista Aritz Espina.\n
DTSTART:20201015T110000
DTEND:20201015T120000
DTSTAMP:20260419T161310Z
LOCATION:Online
PRIORITY:5
SEQUENCE:0
SUMMARY;LANGUAGE=es-es:Tecnowebinars.com - :: Aprende a hacer un montaje virtual 3D como todo un experto
TRANSP:OPAQUE
UID:cb80fdbab6736da0c985cb52176b9393 Tecnowebinars.com
X-MICROSOFT-CDO-BUSYSTATUS:BUSY
X-MICROSOFT-CDO-IMPORTANCE:1
X-MICROSOFT-DISALLOW-COUNTER:FALSE
X-MS-OLK-ALLOWEXTERNCHECK:TRUE
X-MS-OLK-AUTOFILLLOCATION:FALSE
X-MS-OLK-CONFTYPE:0
BEGIN:VALARM
TRIGGER:-PT1440M
ACTION:DISPLAY
DESCRIPTION:Reminder
END:VALARM
END:VEVENT
END:VCALENDAR
