BEGIN:VCALENDAR
PRODID:-//Microsoft Corporation//Outlook 12.0 MIMEDIR//EN
VERSION:2.0
METHOD:PUBLISH
X-MS-OLK-FORCEINSPECTOROPEN:TRUE
BEGIN:VEVENT
CLASS:PUBLIC
CREATED:20260419T161312Z
DESCRIPTION:En este webinar mostraremos el sistema Aicon Partinspect L, una solución que le facilitará dar el salto a la inspección automática y por digitalizado de manera sencilla, gracias a su programación fácil e intuitiva.\nSabemos que la información dimensional tiene un papel importante en el proceso de producción porque nos permite garantizar la calidad de las piezas en todo momento; por esta razón os presentamos nuestra solución de inspección automática Aicon Partinspect L, para piezas pequeñas y medianas, con una aplicación práctica del sistema.  \n \nLa medición por digitalizado tiene muchas aplicaciones prácticas y es muy sencillo obtener buenos resultados. Conocerás un sistema que ofrece una aplicación directa y sencilla, imprescindible para avanzar a la Industria 4.0.\n \nEn el webinar se repasaran todos los pasos del proceso:\n \nEmpezaremos por la medición. \nLuego, preparemos las mediciones mediante herramientas de programación off-line, con un asistente virtual que nos permitirá disponer de los programas rápidamente y con la fiabilidad garantizada.  \nFinalizaremos, con la visualización de los resultados que nos permiten tener el control completo sobre el proceso y decidir que hacemos para que sea óptimo y productivo.\n
DTSTART:20201022T110000
DTEND:20201022T120000
DTSTAMP:20260419T161312Z
LOCATION:Online
PRIORITY:5
SEQUENCE:0
SUMMARY;LANGUAGE=es-es:Tecnowebinars.com - :: Inspección 3D por digitalizado automático con Aicon
TRANSP:OPAQUE
UID:a038078b1389af53407d241c648f0343 Tecnowebinars.com
X-MICROSOFT-CDO-BUSYSTATUS:BUSY
X-MICROSOFT-CDO-IMPORTANCE:1
X-MICROSOFT-DISALLOW-COUNTER:FALSE
X-MS-OLK-ALLOWEXTERNCHECK:TRUE
X-MS-OLK-AUTOFILLLOCATION:FALSE
X-MS-OLK-CONFTYPE:0
BEGIN:VALARM
TRIGGER:-PT1440M
ACTION:DISPLAY
DESCRIPTION:Reminder
END:VALARM
END:VEVENT
END:VCALENDAR
