BEGIN:VCALENDAR
PRODID:-//Microsoft Corporation//Outlook 12.0 MIMEDIR//EN
VERSION:2.0
METHOD:PUBLISH
X-MS-OLK-FORCEINSPECTOROPEN:TRUE
BEGIN:VEVENT
CLASS:PUBLIC
CREATED:20260419T161311Z
DESCRIPTION:Register to attend this Webinar and join the digital manuals, docs, and compliance specialists at Web Manuals as they walk you through the latest version of their digital document management solution: Web Manuals 8.0. You will see how Web Manuals solutions, already in use at over 300 companies, can assist users to efficiently manage critical manuals and docs, while providing pilots, cabin crew and engineers with seamless access to up-to-date manuals and content. \nThe Webinar begins with the challenges of managing aviation manuals and docs, from keeping track of compliance to revision processes and audits.  Then, via a demo of Web Manuals 8.0, you will see how to digitize and simplify this process.  The demo will follow the lifecycle of a document – Monitor, Author, Review, Publish and Control - and showcase the smart modules and functionality, inc.: automated compliance monitoring, self-updating revision bars, easily input an MEL or checklist to docs, auto-generating list of effective pages and more.\n \n
DTSTART:20201008T083000
DTEND:20201008T093000
DTSTAMP:20260419T161311Z
LOCATION:Online
PRIORITY:5
SEQUENCE:0
SUMMARY;LANGUAGE=es-es:Tecnowebinars.com - :: Digital Aviation Manuals and Documents System Demo Webinar
TRANSP:OPAQUE
UID:ad5c8fa5de37e6f33674354f206ad615 Tecnowebinars.com
X-MICROSOFT-CDO-BUSYSTATUS:BUSY
X-MICROSOFT-CDO-IMPORTANCE:1
X-MICROSOFT-DISALLOW-COUNTER:FALSE
X-MS-OLK-ALLOWEXTERNCHECK:TRUE
X-MS-OLK-AUTOFILLLOCATION:FALSE
X-MS-OLK-CONFTYPE:0
BEGIN:VALARM
TRIGGER:-PT1440M
ACTION:DISPLAY
DESCRIPTION:Reminder
END:VALARM
END:VEVENT
END:VCALENDAR
