BEGIN:VCALENDAR
PRODID:-//Microsoft Corporation//Outlook 12.0 MIMEDIR//EN
VERSION:2.0
METHOD:PUBLISH
X-MS-OLK-FORCEINSPECTOROPEN:TRUE
BEGIN:VEVENT
CLASS:PUBLIC
CREATED:20260419T143611Z
DESCRIPTION:VER VIDEO\nLa flexibilidad de la solución Compleo permite la creación, en tan solo unas horas, los tratamientos a aplicar a los documentos SAP de manera independiente, sin costes adicionales y absolutamente sin ninguna necesidad de programación ABAP.\n En esta ocasión os enseñaré lo sencillo y rápido que es crear procesos automáticos para enviar documentos provenientes de SAP para firmar electrónicamente por actores externos a la empresa. El conector dedicado BC-XOM permite a Compleo tratar directamente los documentos que, una vez firmados, podrán también ser consultados directamente desde SAP a través del Archive Link.\nAplica a todo tipo de documentos administrativos, comerciales, financieros tales como facturas, presupuestos, ordenes de pedido, ordenes de trabajo, albaranes, etc.\nLos desarrollos en SAP no tienen freno con Compleo.\nTe invito a participar en mi próximo webinar,  donde veremos una demostración práctica de la solución conectada a SAP así como una presentación de los principios de parametrización del proceso de envío y solicitud de firma electrónica. \n
DTSTART:20201029T103000
DTEND:20201029T113000
DTSTAMP:20260419T143611Z
LOCATION:Online
PRIORITY:5
SEQUENCE:0
SUMMARY;LANGUAGE=es-es:Tecnowebinars.com - :: Firma electrónica de documentos SAP. automatización de los procesos
TRANSP:OPAQUE
UID:c9e1050ac027070509751901bc5d1ae5 Tecnowebinars.com
X-MICROSOFT-CDO-BUSYSTATUS:BUSY
X-MICROSOFT-CDO-IMPORTANCE:1
X-MICROSOFT-DISALLOW-COUNTER:FALSE
X-MS-OLK-ALLOWEXTERNCHECK:TRUE
X-MS-OLK-AUTOFILLLOCATION:FALSE
X-MS-OLK-CONFTYPE:0
BEGIN:VALARM
TRIGGER:-PT1440M
ACTION:DISPLAY
DESCRIPTION:Reminder
END:VALARM
END:VEVENT
END:VCALENDAR
