BEGIN:VCALENDAR
PRODID:-//Microsoft Corporation//Outlook 12.0 MIMEDIR//EN
VERSION:2.0
METHOD:PUBLISH
X-MS-OLK-FORCEINSPECTOROPEN:TRUE
BEGIN:VEVENT
CLASS:PUBLIC
CREATED:20260419T143657Z
DESCRIPTION:En el contexto actual la digitalización de las empresas resulta clave a la hora de afrontar con garantías el futuro, al igual que saber adaptar sus procesos a la necesaria distancia social. A través de la factura electrónica y su firma digital, tu empresa obtendrá múltiples ventajas; optimiza recursos, ahorra costes, reduce el uso del papel y consumibles y agiliza los procesos administrativos de tu empresa.\n \nEmite documentos firmados digitalmente y también impórtalos en formato XML desde tu propio ERP, o crea un flujo de trabajo fácil y ágil con la Administración Pública.\n \nTodo ello de manera fácil y asequible para cualquier usuario. \n \nEl próximo miércoles 27 de octubre a las 10 horas, de la mano de Borja Guillén (Innova Advanced Consulting), repasaremos todas las ventajas y beneficios de utilizar la facturación electrónica firmada digitalmente y como nuestras soluciones eInvoice, eSign ePDF y eSign Facturae pueden ayudarte. \n \nSi buscas como instalar la facturación electrónica en tu empresa, este webinario te aportará una visión global para que puedas averiguar que solución se adapta mejor a tus necesidades. \n \nAGENDA:\n \n• Introducción Innova\n• Presentación eInvoice\n• Presentación eSign Facturae\n• Presentación eSign ePDF\n• Ruegos y preguntas\n
DTSTART:20201027T100000
DTEND:20201027T110000
DTSTAMP:20260419T143657Z
LOCATION:Online
PRIORITY:5
SEQUENCE:0
SUMMARY;LANGUAGE=es-es:Tecnowebinars.com - :: Factura electrónica con firma digital para Business Central/NAV
TRANSP:OPAQUE
UID:fa46949b22422c7c44c9c30878139180 Tecnowebinars.com
X-MICROSOFT-CDO-BUSYSTATUS:BUSY
X-MICROSOFT-CDO-IMPORTANCE:1
X-MICROSOFT-DISALLOW-COUNTER:FALSE
X-MS-OLK-ALLOWEXTERNCHECK:TRUE
X-MS-OLK-AUTOFILLLOCATION:FALSE
X-MS-OLK-CONFTYPE:0
BEGIN:VALARM
TRIGGER:-PT1440M
ACTION:DISPLAY
DESCRIPTION:Reminder
END:VALARM
END:VEVENT
END:VCALENDAR
