BEGIN:VCALENDAR
PRODID:-//Microsoft Corporation//Outlook 12.0 MIMEDIR//EN
VERSION:2.0
METHOD:PUBLISH
X-MS-OLK-FORCEINSPECTOROPEN:TRUE
BEGIN:VEVENT
CLASS:PUBLIC
CREATED:20260419T161218Z
DESCRIPTION: ¿Buscas poder firmas digitalmente todo tipo de documentos? ¿O perder menos tiempo gestionando los gastos corporativos? Apúntate a este webinario y aprende como la firma digital de Docuten y la gestión de gastos de Captio puede ayudar a tu empresa.\nEl próximo martes 13 de octubre a las 10 horas, de la mano de Juan Contreras (Innova Advanced Consulting), repasaremos todas las ventajas y beneficios de estas dos soluciones y aprenderemos como pueden enlazarse con tu ERP Microsoft Business Central.\n \nAdemás, podrás conocer todos los detalles de la promoción especial Docuten y Captio Connect, con descuentos de hasta el 15% durante el primer año de promoción.\n \nSi necesitas digitalizar tu empresa, ahorrar costes y optimizar tu tiempo, aprende cómo puedes lograrlo a través de la firma digital y la gestión de gastos en este webinario.\n \nAGENDA:\n \n• Introducción Innova\n• Presentación Captio\n• Presentación Docuten\n• Presentación promoción especial\n• Ruegos y preguntas\n
DTSTART:20201013T100000
DTEND:20201013T110000
DTSTAMP:20260419T161218Z
LOCATION:Online
PRIORITY:5
SEQUENCE:0
SUMMARY;LANGUAGE=es-es:Tecnowebinars.com - :: Firma digital y gestión de gastos con Docuten eSign y Captio
TRANSP:OPAQUE
UID:92769b7ff287c8e6fbcad6a7ab5046ef Tecnowebinars.com
X-MICROSOFT-CDO-BUSYSTATUS:BUSY
X-MICROSOFT-CDO-IMPORTANCE:1
X-MICROSOFT-DISALLOW-COUNTER:FALSE
X-MS-OLK-ALLOWEXTERNCHECK:TRUE
X-MS-OLK-AUTOFILLLOCATION:FALSE
X-MS-OLK-CONFTYPE:0
BEGIN:VALARM
TRIGGER:-PT1440M
ACTION:DISPLAY
DESCRIPTION:Reminder
END:VALARM
END:VEVENT
END:VCALENDAR
