BEGIN:VCALENDAR
PRODID:-//Microsoft Corporation//Outlook 12.0 MIMEDIR//EN
VERSION:2.0
METHOD:PUBLISH
X-MS-OLK-FORCEINSPECTOROPEN:TRUE
BEGIN:VEVENT
CLASS:PUBLIC
CREATED:20260419T162148Z
DESCRIPTION:GRATUITO!!!\nNORMALMENTE EL COSTE ES DE 399 EUROS. \n \n¿Quieres mejorar tu metodología de programación en Business Central? ¿Tener mejores prácticas y evitar errores típicos que entorpecen tu trabajo?\n \nComo ISV Development Center de Microsoft con competencias en Dynamics NAV y Dynamics 365 Business Central a nivel mundial, tenemos el placer de anunciaros la disponibilidad de una nueva masterclass de Best Practices para Business Central, dirigido al canal de Partners de Microsoft.\n \nCaracterísticas del curso\n \nLas características del curso son:\n \n- Metodología online, mediante una clase magistral\n- Número de alumnos por aula limitado, con el objetivo de ofrecer una atención más personalizada a cada uno de los alumnos, garantizando así un alto nivel de calidad formativa.\n \nSe trata de un curso de carácter técnico donde podrás conocer prácticas y metodologías de desarrollo y programación que podrás poner en práctica en los proyectos de tu día a día. Para un máximo aprovechamiento del contenido impartido, se recomienda haber asistido previamente a la formación “MSD365BC (Extensions 2.0) Technical Training” o conocer como se trabaja en proyectos de Business Central.\n \n¿Qué vas a poder aprender en esta masterclass?\n \n* AL – Errores comunes\n  . Trataremos los errorres más comunes que se dan al trabajar en el nuevo lenguaje de programación MSD365BC para Business Central\n* AL – Best Practices.\n  . Aprenderemos las mejores prácticas de programación en lenguaje AL\n* AL – Design Patterns\n  . Hablaremos sobre reglas o pautas de diseño en AL para la programación posterior\n* GIT Structure\n  . Ahondaremos en el sistema de software de control de versiones en programación, utilizando el lenguaje AL visto anteriormente.\n \n¡Aprovecha esta convocatoria gratuita sin coste!\n \nAhora por tiempo limitado puedes apuntarte a esta masterclass con un precio original de 399 EUR (499 USD) , ¡gratis!\n \n- Formación: Masterclass “Dynamics 365 Business Central BestPractices”\n- Fechas nueva formación: 16 octubre de 2020\n- Horario: De 10:00 a 13:30horas [ Zona horaria: Madrid UTC+1]\n- Formato: ONLINE\n
DTSTART:20201016T100000
DTEND:20201016T133000
DTSTAMP:20260419T162148Z
LOCATION:Online
PRIORITY:5
SEQUENCE:0
SUMMARY;LANGUAGE=es-es:Tecnowebinars.com - :: Business Central. Mejores prácticas. [Master Class. 3 horas y media]
TRANSP:OPAQUE
UID:d15a97ab2809d6cf2c848adda84d7ec0 Tecnowebinars.com
X-MICROSOFT-CDO-BUSYSTATUS:BUSY
X-MICROSOFT-CDO-IMPORTANCE:1
X-MICROSOFT-DISALLOW-COUNTER:FALSE
X-MS-OLK-ALLOWEXTERNCHECK:TRUE
X-MS-OLK-AUTOFILLLOCATION:FALSE
X-MS-OLK-CONFTYPE:0
BEGIN:VALARM
TRIGGER:-PT1440M
ACTION:DISPLAY
DESCRIPTION:Reminder
END:VALARM
END:VEVENT
END:VCALENDAR
