BEGIN:VCALENDAR
PRODID:-//Microsoft Corporation//Outlook 12.0 MIMEDIR//EN
VERSION:2.0
METHOD:PUBLISH
X-MS-OLK-FORCEINSPECTOROPEN:TRUE
BEGIN:VEVENT
CLASS:PUBLIC
CREATED:20260419T143657Z
DESCRIPTION:VER VIDEO\nConceptos básicos de termografía y cámaras termográficas\n1) Qué mide la cámara termográfica\n2) En qué se basa la media de la cámara\n3) Factores que afectan a la medición\n4) Enumeración de algunas características a tener en cuenta antes de comprar una cámara\n5) Software de la cámara\nVER VIDEO\n
DTSTART:20201029T160000
DTEND:20201029T170000
DTSTAMP:20260419T143657Z
LOCATION:Online
PRIORITY:5
SEQUENCE:0
SUMMARY;LANGUAGE=es-es:Tecnowebinars.com - :: Conceptos básicos de Termografía y cámaras termográficas
TRANSP:OPAQUE
UID:b3b13da2c4a0fbadbb0ea7cb776b75a8 Tecnowebinars.com
X-MICROSOFT-CDO-BUSYSTATUS:BUSY
X-MICROSOFT-CDO-IMPORTANCE:1
X-MICROSOFT-DISALLOW-COUNTER:FALSE
X-MS-OLK-ALLOWEXTERNCHECK:TRUE
X-MS-OLK-AUTOFILLLOCATION:FALSE
X-MS-OLK-CONFTYPE:0
BEGIN:VALARM
TRIGGER:-PT1440M
ACTION:DISPLAY
DESCRIPTION:Reminder
END:VALARM
END:VEVENT
END:VCALENDAR
