BEGIN:VCALENDAR
PRODID:-//Microsoft Corporation//Outlook 12.0 MIMEDIR//EN
VERSION:2.0
METHOD:PUBLISH
X-MS-OLK-FORCEINSPECTOROPEN:TRUE
BEGIN:VEVENT
CLASS:PUBLIC
CREATED:20260419T160337Z
DESCRIPTION:El área de compras es un área clave para empresas de distinta magnitud, una buena compra mejora la rentabilidad. Pero es normal que los modelos de BI se apliquen normalmente a los sectores de ventas, e-commerce, etc.\nTe invitamos a analizar un modelo de BI para compras y análisis de proveedores realizado con Tableau.\nDurante una hora Gerardo Tezza expondrá como generar una solución con una de las herramientas más conocidas como lo es Tableau.\nDurante esta charla podrás realizar tus preguntas y sacar tus dudas.\n¿Es necesario conocer Tableau?\nNo. Lo importante es entender  lo que demostramos con Tableau e identificar los KPI \nEste seminario, lo convierte en un espacio de interés para todos los involucrados en el área de compras que deseen mejorar la información de su sector y si no tienen BI aplicado encontrar las ventajas que brinda su incorporación.\nSI QUIERES APRENDER MAS APUNTATE AL CURSO DEL PROFESOR DE 6 HORAS AQUÍ.\n \n
DTSTART:20201015T160000
DTEND:20201015T170000
DTSTAMP:20260419T160337Z
LOCATION:Online
PRIORITY:5
SEQUENCE:0
SUMMARY;LANGUAGE=es-es:Tecnowebinars.com - :: BI en Compras y Supply Chain con Tableau
TRANSP:OPAQUE
UID:a70aa4ad7a9a848208b99d43ea331ee8 Tecnowebinars.com
X-MICROSOFT-CDO-BUSYSTATUS:BUSY
X-MICROSOFT-CDO-IMPORTANCE:1
X-MICROSOFT-DISALLOW-COUNTER:FALSE
X-MS-OLK-ALLOWEXTERNCHECK:TRUE
X-MS-OLK-AUTOFILLLOCATION:FALSE
X-MS-OLK-CONFTYPE:0
BEGIN:VALARM
TRIGGER:-PT1440M
ACTION:DISPLAY
DESCRIPTION:Reminder
END:VALARM
END:VEVENT
END:VCALENDAR
