BEGIN:VCALENDAR
PRODID:-//Microsoft Corporation//Outlook 12.0 MIMEDIR//EN
VERSION:2.0
METHOD:PUBLISH
X-MS-OLK-FORCEINSPECTOROPEN:TRUE
BEGIN:VEVENT
CLASS:PUBLIC
CREATED:20260419T161312Z
DESCRIPTION:Join the latest Data Disruptor webcast to learn how GoodData uses Vertica in a Kubernetes ecosystem.\n \nThis webinar focuses on a Vertica cluster running on any hardware or OS platform, scaling up and down seamlessly, and operating with zero-downtime. GoodData decided to make this a reality by using the Kubernetes ecosystem. But because stateful clusters are not easily managed in Kubernetes, they took the following approach:\nImplemented a custom operator\nUsed the operator SDK for Vertica running in Eon Mode\nRun Vertica implementation on MinIO storage\nDeployed in Kubernetes\n
DTSTART:20201007T170000
DTEND:20201007T180000
DTSTAMP:20260419T161312Z
LOCATION:Online
PRIORITY:5
SEQUENCE:0
SUMMARY;LANGUAGE=es-es:Tecnowebinars.com - :: Vertica in Eon Mode running natively in Kubernetes
TRANSP:OPAQUE
UID:905fe1609880c7c421ebf85242a4e50d Tecnowebinars.com
X-MICROSOFT-CDO-BUSYSTATUS:BUSY
X-MICROSOFT-CDO-IMPORTANCE:1
X-MICROSOFT-DISALLOW-COUNTER:FALSE
X-MS-OLK-ALLOWEXTERNCHECK:TRUE
X-MS-OLK-AUTOFILLLOCATION:FALSE
X-MS-OLK-CONFTYPE:0
BEGIN:VALARM
TRIGGER:-PT1440M
ACTION:DISPLAY
DESCRIPTION:Reminder
END:VALARM
END:VEVENT
END:VCALENDAR
