BEGIN:VCALENDAR
PRODID:-//Microsoft Corporation//Outlook 12.0 MIMEDIR//EN
VERSION:2.0
METHOD:PUBLISH
X-MS-OLK-FORCEINSPECTOROPEN:TRUE
BEGIN:VEVENT
CLASS:PUBLIC
CREATED:20260419T160335Z
DESCRIPTION:Join Doug Henschen, vice president and principal analyst at Constellation Research, and Mike Conway, CTO, Bidtellect for a discussion on the trends in data-driven innovation and next-generation analytical platforms that can span multiple cloud and on-premises deployment. You'll learn:\n-Why hybrid- and multi-cloud deployment flexibility is a must\n-How separation of compute and storage changes the economics of analytics\n-Why operationalizing data science innovation, leveraging machine learning, is crucial for business impact\n-How data lakes are evolving, requiring yet more flexibility from analytical platforms\n-Why it's crucial to obtain scalability and performance proof points before choosing a platform\n
DTSTART:20201015T170000
DTEND:20201015T180000
DTSTAMP:20260419T160335Z
LOCATION:Online
PRIORITY:5
SEQUENCE:0
SUMMARY;LANGUAGE=es-es:Tecnowebinars.com - :: Five Ways Analytical Platforms Are Evolving for Your Hybrid, Multi-Cloud Future
TRANSP:OPAQUE
UID:9af61c227240a920cc255e11d748031c Tecnowebinars.com
X-MICROSOFT-CDO-BUSYSTATUS:BUSY
X-MICROSOFT-CDO-IMPORTANCE:1
X-MICROSOFT-DISALLOW-COUNTER:FALSE
X-MS-OLK-ALLOWEXTERNCHECK:TRUE
X-MS-OLK-AUTOFILLLOCATION:FALSE
X-MS-OLK-CONFTYPE:0
BEGIN:VALARM
TRIGGER:-PT1440M
ACTION:DISPLAY
DESCRIPTION:Reminder
END:VALARM
END:VEVENT
END:VCALENDAR
