BEGIN:VCALENDAR
PRODID:-//Microsoft Corporation//Outlook 12.0 MIMEDIR//EN
VERSION:2.0
METHOD:PUBLISH
X-MS-OLK-FORCEINSPECTOROPEN:TRUE
BEGIN:VEVENT
CLASS:PUBLIC
CREATED:20260419T160300Z
DESCRIPTION:VER VIDEO \n \nCon demasiada frecuencia se pasa por alto la necesidad de reunir requisitos sólidos al seleccionar el software empresarial. Durante esta fase crítica, no tomarse el tiempo, no dedicar los recursos o no involucrar a las personas que usarán el nuevo software pone en peligro el resultado del proyecto desde el principio.\n \nEs importante destacar que, sin una recopilación exhaustiva de requisitos, el control del proyecto pasa del comprador al vendedor. Si no sabe lo que quiere, alguien sin sus mejores intereses en mente se lo dirá.\n \nEn este webinar de Joseph Alonso, Gerente Senior de Entrega de Proyectos de TEC, les mostrará más sobre el "por qué" y el "cómo" de la recopilación de requisitos detallados al seleccionar el software empresarial.\n \n VER VIDEO \n
DTSTART:20201022T160000
DTEND:20201022T170000
DTSTAMP:20260419T160300Z
LOCATION:Online
PRIORITY:5
SEQUENCE:0
SUMMARY;LANGUAGE=es-es:Tecnowebinars.com - :: Toma de requisitos para comprar software empresarial según TEC
TRANSP:OPAQUE
UID:fac6f601db8a1d1b6d560c9d5fe23e1f Tecnowebinars.com
X-MICROSOFT-CDO-BUSYSTATUS:BUSY
X-MICROSOFT-CDO-IMPORTANCE:1
X-MICROSOFT-DISALLOW-COUNTER:FALSE
X-MS-OLK-ALLOWEXTERNCHECK:TRUE
X-MS-OLK-AUTOFILLLOCATION:FALSE
X-MS-OLK-CONFTYPE:0
BEGIN:VALARM
TRIGGER:-PT1440M
ACTION:DISPLAY
DESCRIPTION:Reminder
END:VALARM
END:VEVENT
END:VCALENDAR
