BEGIN:VCALENDAR
PRODID:-//Microsoft Corporation//Outlook 12.0 MIMEDIR//EN
VERSION:2.0
METHOD:PUBLISH
X-MS-OLK-FORCEINSPECTOROPEN:TRUE
BEGIN:VEVENT
CLASS:PUBLIC
CREATED:20260419T162311Z
DESCRIPTION:Fujitsu ActivateNow, un programa global y regional que incluye mesas redondas de carácter local. \n \nAgenda:\n-Discurso de apertura de Takahito Tokita, Alex Osterwalder, empresario e inventor del mundialmente conocido Business Model Canvas, y de profesora Lynda Gratton, autora del best-seller 'The 100-Year Life' sobre la revolución que se está produciendo en la vida y en el trabajo.\n-Becoming the adaptive enterprise. Encuentros destinados a compartir ideas sobre cómo las empresas pueden hacer rápidamente de esta transformación radical un éxito, minimizando al mismo tiempo el coste y el riesgo empresarial.\n-Diseñando la transformación de su negocio digital. Una sesión de trabajo que mostrará cómo desarrollar una cultura de co-creación para crear valor aprovechando la metodología única de Fujitsu HXD.\n-¿Cómo ha afectado COVID-19 a la ciberseguridad de las empresas? Este apartado explorará la evolución del panorama mundial de las ciberamenazas y proporcionará información sobre cómo un enfoque sólido de seguridad permite a las organizaciones prosperar a medida que el mundo vuelve a crecer.\n-La ética de la IA. Uno de los temas más candentes de la tecnología en este momento: Expertos mundialmente conocidos de Fujitsu Labs discutirán los últimos desarrollos internacionales, para crear tecnologías que generen confianza bajo la IA.\n
DTSTART:20201013T110000
DTEND:20201013T010000
DTSTAMP:20260419T162311Z
LOCATION:Online
PRIORITY:5
SEQUENCE:0
SUMMARY;LANGUAGE=es-es:Tecnowebinars.com - :: Fujitsu ActivateNow: Primer evento internacional que reimagina el futuro
TRANSP:OPAQUE
UID:41631458e1791fface473b19fec42433 Tecnowebinars.com
X-MICROSOFT-CDO-BUSYSTATUS:BUSY
X-MICROSOFT-CDO-IMPORTANCE:1
X-MICROSOFT-DISALLOW-COUNTER:FALSE
X-MS-OLK-ALLOWEXTERNCHECK:TRUE
X-MS-OLK-AUTOFILLLOCATION:FALSE
X-MS-OLK-CONFTYPE:0
BEGIN:VALARM
TRIGGER:-PT1440M
ACTION:DISPLAY
DESCRIPTION:Reminder
END:VALARM
END:VEVENT
END:VCALENDAR
