BEGIN:VCALENDAR
PRODID:-//Microsoft Corporation//Outlook 12.0 MIMEDIR//EN
VERSION:2.0
METHOD:PUBLISH
X-MS-OLK-FORCEINSPECTOROPEN:TRUE
BEGIN:VEVENT
CLASS:PUBLIC
CREATED:20260419T161207Z
DESCRIPTION:Las herramientas de BI de autoservicio han democratizado los datos, la información y el análisis y han ayudado sin lugar a duda a acelerar la generación de informes, pero cuando se usan distintas soluciones y herramientas dispares, se genera un verdadero problema de fiabilidad, accesibilidad y gobernanza de datos.\nParticipando en esta sesión podrás:\n-Conocer cómo controlar la avalancha de informes generados por distintas herramientas BI dispares como Qlik Sense, Power BI, Tableau, Microstrategy, SAP, Salesforce, etc. y crear una versión fiable de la información para tomar las mejores decisiones.\n-Descubrir cómo encontrar los informes que necesitas, cuando los necesitas.\n-Conocer la experiencia de otras empresas, líderes en su sector, con el despliegue de ZenOptics.\n
DTSTART:20201020T100000
DTEND:20201020T110000
DTSTAMP:20260419T161207Z
LOCATION:Online
PRIORITY:5
SEQUENCE:0
SUMMARY;LANGUAGE=es-es:Tecnowebinars.com - :: Lanzamiento en España de ZenOptics
TRANSP:OPAQUE
UID:0e281baac3baaecd0833bb12623b7092 Tecnowebinars.com
X-MICROSOFT-CDO-BUSYSTATUS:BUSY
X-MICROSOFT-CDO-IMPORTANCE:1
X-MICROSOFT-DISALLOW-COUNTER:FALSE
X-MS-OLK-ALLOWEXTERNCHECK:TRUE
X-MS-OLK-AUTOFILLLOCATION:FALSE
X-MS-OLK-CONFTYPE:0
BEGIN:VALARM
TRIGGER:-PT1440M
ACTION:DISPLAY
DESCRIPTION:Reminder
END:VALARM
END:VEVENT
END:VCALENDAR
