BEGIN:VCALENDAR
PRODID:-//Microsoft Corporation//Outlook 12.0 MIMEDIR//EN
VERSION:2.0
METHOD:PUBLISH
X-MS-OLK-FORCEINSPECTOROPEN:TRUE
BEGIN:VEVENT
CLASS:PUBLIC
CREATED:20260419T161343Z
DESCRIPTION:Prepárate para los principales cambios en las plataformas de datos que la nube híbrida trae consigo\nDescubre el futuro del streaming, del data warehousing y del machine learning.\nAgenda:\n15:00 h\nBienvenida | Juan Carlos Sánchez de La Fuente, Regional Director Spain & Portugal, Cloudera\n15:05 h\nDiscurso de apertura | Rob Bearden, Chief Executive Officer, Cloudera\n15:15 h\nTransformación digital: Cómo superar la tormenta de datos | Mick Hollison, Chief Marketing Officer, Cloudera\n15:35 h\nEl futuro de la nube de datos empresarial | Fred Koopmans, Vice President, Product Management, Cloudera\n16:05 h\nPresentación de cliente por confirmar\n17:10 h\nPresentación de invitado por confirmar\n17:55 h\nSesión de debate | Juan Carlos Sánchez de La Fuente, Regional Director Spain & Portugal, Cloudera y Pablo Boixeda, Solution Engineering Manager Iberia & Italy, Cloudera\n18:10 h\nConclusión y clausura | Juan Carlos Sánchez de La Fuente, Regional Director Spain & Portugal, Cloudera\n \n
DTSTART:20201021T130000
DTEND:20201021T181500
DTSTAMP:20260419T161343Z
LOCATION:Online
PRIORITY:5
SEQUENCE:0
SUMMARY;LANGUAGE=es-es:Tecnowebinars.com - :: Cloudera Forum 2020. Navegar la tormenta de datos
TRANSP:OPAQUE
UID:ce064cfb53b7bede08906226cd358d70 Tecnowebinars.com
X-MICROSOFT-CDO-BUSYSTATUS:BUSY
X-MICROSOFT-CDO-IMPORTANCE:1
X-MICROSOFT-DISALLOW-COUNTER:FALSE
X-MS-OLK-ALLOWEXTERNCHECK:TRUE
X-MS-OLK-AUTOFILLLOCATION:FALSE
X-MS-OLK-CONFTYPE:0
BEGIN:VALARM
TRIGGER:-PT1440M
ACTION:DISPLAY
DESCRIPTION:Reminder
END:VALARM
END:VEVENT
END:VCALENDAR
