BEGIN:VCALENDAR
PRODID:-//Microsoft Corporation//Outlook 12.0 MIMEDIR//EN
VERSION:2.0
METHOD:PUBLISH
X-MS-OLK-FORCEINSPECTOROPEN:TRUE
BEGIN:VEVENT
CLASS:PUBLIC
CREATED:20260419T143530Z
DESCRIPTION:We can already see the impact of digital transformation across multiple industries and applications. Connected devices are being adopted, driving innovations that impact our lives and businesses, and this innovation continues.\n \nTo realize the full potential of digital transformation, devices are starting to make use of local data processing, these connected devices need to be secured, assuring end users of the robustness and resilience of services and efficiencies.\n \nIn this webinar, we’ll discuss:\n \n- Why security for IoT edge endpoints is critical\n- Key security considerations and how to build-in security\n- The role of assurance in IoT adoption and digital transformation\n \n
DTSTART:20201110T170000
DTEND:20201110T180000
DTSTAMP:20260419T143530Z
LOCATION:Online
PRIORITY:5
SEQUENCE:0
SUMMARY;LANGUAGE=es-es:Tecnowebinars.com - :: How Security Plays a Fundamental Role in Digital Transformation and IoT Edge Endpoints
TRANSP:OPAQUE
UID:0918805407533adb9e1c8a2833d46d04 Tecnowebinars.com
X-MICROSOFT-CDO-BUSYSTATUS:BUSY
X-MICROSOFT-CDO-IMPORTANCE:1
X-MICROSOFT-DISALLOW-COUNTER:FALSE
X-MS-OLK-ALLOWEXTERNCHECK:TRUE
X-MS-OLK-AUTOFILLLOCATION:FALSE
X-MS-OLK-CONFTYPE:0
BEGIN:VALARM
TRIGGER:-PT1440M
ACTION:DISPLAY
DESCRIPTION:Reminder
END:VALARM
END:VEVENT
END:VCALENDAR
