BEGIN:VCALENDAR
PRODID:-//Microsoft Corporation//Outlook 12.0 MIMEDIR//EN
VERSION:2.0
METHOD:PUBLISH
X-MS-OLK-FORCEINSPECTOROPEN:TRUE
BEGIN:VEVENT
CLASS:PUBLIC
CREATED:20260419T161209Z
DESCRIPTION:As global threat actors exploit the COVID-19 crisis, OT and IoT security has become a greater challenge.\n \nThe total number of connected IoT devices is expected to reach 75 billion by 2025 - 30% of these installed in industrial environments.\n \nAs a vast number of companies have embraced industrial IoT (IIoT) solutions as a way to enhance their operations, the risk and incidence of exposure to cyberattacks has greatly increased.\n \nThis webinar will explore how industrial companies can approach the security challenges inherent in IIoT.\n
DTSTART:20201014T170000
DTEND:20201014T180000
DTSTAMP:20260419T161209Z
LOCATION:Online
PRIORITY:5
SEQUENCE:0
SUMMARY;LANGUAGE=es-es:Tecnowebinars.com - :: The keys to securing industrial lot environments
TRANSP:OPAQUE
UID:b58a2692125f36c37c889a682d651a5d Tecnowebinars.com
X-MICROSOFT-CDO-BUSYSTATUS:BUSY
X-MICROSOFT-CDO-IMPORTANCE:1
X-MICROSOFT-DISALLOW-COUNTER:FALSE
X-MS-OLK-ALLOWEXTERNCHECK:TRUE
X-MS-OLK-AUTOFILLLOCATION:FALSE
X-MS-OLK-CONFTYPE:0
BEGIN:VALARM
TRIGGER:-PT1440M
ACTION:DISPLAY
DESCRIPTION:Reminder
END:VALARM
END:VEVENT
END:VCALENDAR
