BEGIN:VCALENDAR
PRODID:-//Microsoft Corporation//Outlook 12.0 MIMEDIR//EN
VERSION:2.0
METHOD:PUBLISH
X-MS-OLK-FORCEINSPECTOROPEN:TRUE
BEGIN:VEVENT
CLASS:PUBLIC
CREATED:20260419T162332Z
DESCRIPTION:El Barcelona Biofilm Summit by Alimentaria FoodTech es un congreso especializado para profundizar y proporcionar una visión actualizada de la problemática que representa la presencia de biofilms en las plantas de producción de alimentos y bebidas y de las estrategias de control y gestión del riesgo asociado.\n \nLa edición de 2020 será presentada en formato 100% digital a través de ponencias por vídeo en vivo.\n \nPrograma:\n \n15:30h (CEST)\nBienvenida :Dra. Sara Bover - IRTA (España)\n \n15:40h - Ponencia en inglés\nBiofilms in the food industry, VBNC and resistance; requiring new means of detection and control\nDr. Bill Keevil - Food Standards Agency, Southampton (Reino Unido)\n \n16:10h - Ponencia en inglés\nBiofilm species diversity and enzymatic removal of biofilms\nDr. Rob Limburn - Campden BRI, Charingworth, Gloucestershire (Reino Unido)\n \n16:40h - Ponencia en español\nEl control microbiológico de superficies: una herramienta clave para la verificación de la higiene en el marco de la gestión de la seguridad y calidad alimentaria\nDra. Belén Martín - IRTA (España)\n \n17:10h - Ponencia en español\nRiesgos y peligros de los biofilms en la industria alimentaria\nDr. José Juan Rodríguez - Universitat Autònoma de Barcelona (España)\n \n17:40h\nConclusiones y cierre\nDra. Sara Bover - IRTA (España) \n
DTSTART:20201007T153000
DTEND:20201007T174500
DTSTAMP:20260419T162332Z
LOCATION:Online
PRIORITY:5
SEQUENCE:0
SUMMARY;LANGUAGE=es-es:Tecnowebinars.com - :: Barcelona Biofilm Summit by Alimentaria FoodTech
TRANSP:OPAQUE
UID:7405021ca4077049989b38d199dbc44d Tecnowebinars.com
X-MICROSOFT-CDO-BUSYSTATUS:BUSY
X-MICROSOFT-CDO-IMPORTANCE:1
X-MICROSOFT-DISALLOW-COUNTER:FALSE
X-MS-OLK-ALLOWEXTERNCHECK:TRUE
X-MS-OLK-AUTOFILLLOCATION:FALSE
X-MS-OLK-CONFTYPE:0
BEGIN:VALARM
TRIGGER:-PT1440M
ACTION:DISPLAY
DESCRIPTION:Reminder
END:VALARM
END:VEVENT
END:VCALENDAR
