BEGIN:VCALENDAR
PRODID:-//Microsoft Corporation//Outlook 12.0 MIMEDIR//EN
VERSION:2.0
METHOD:PUBLISH
X-MS-OLK-FORCEINSPECTOROPEN:TRUE
BEGIN:VEVENT
CLASS:PUBLIC
CREATED:20260419T162311Z
DESCRIPTION:La Fabricación Aditiva, es un método de producción a través del cual el material es depositado capa por capa de manera controlada, generando formas geométricas personalizadas según las necesidades del sector.\n \nTe invitamos a conocer los beneficios de la Fabricación Aditiva aplicados a la industria médica, a través las experiencias de las empresas del sector que nos contarán sus casos de éxito, trabajando con este tipo de tecnología y sus aplicaciones.\n \nPonentes:\n \nVicenç Font:CEO - COO - UIL\n \nMagalí Palau Rodríguez:Responsable de marketing y comunicación - UIL\n \nBruno Romero:Iberia 3D Application Engineer HP 3D Multi Jet Fusion Business - HP Inc.\n \nCon la moderación por parte de:\n \nCarlos Sisternas:Director - Fenin\n
DTSTART:20201006T110000
DTEND:20201006T120000
DTSTAMP:20260419T162311Z
LOCATION:Online
PRIORITY:5
SEQUENCE:0
SUMMARY;LANGUAGE=es-es:Tecnowebinars.com - :: El sector médico como protagonista de la Fabricación Aditiva
TRANSP:OPAQUE
UID:b97ed1007826eb3cf96a030b2d191c99 Tecnowebinars.com
X-MICROSOFT-CDO-BUSYSTATUS:BUSY
X-MICROSOFT-CDO-IMPORTANCE:1
X-MICROSOFT-DISALLOW-COUNTER:FALSE
X-MS-OLK-ALLOWEXTERNCHECK:TRUE
X-MS-OLK-AUTOFILLLOCATION:FALSE
X-MS-OLK-CONFTYPE:0
BEGIN:VALARM
TRIGGER:-PT1440M
ACTION:DISPLAY
DESCRIPTION:Reminder
END:VALARM
END:VEVENT
END:VCALENDAR
