BEGIN:VCALENDAR
PRODID:-//Microsoft Corporation//Outlook 12.0 MIMEDIR//EN
VERSION:2.0
METHOD:PUBLISH
X-MS-OLK-FORCEINSPECTOROPEN:TRUE
BEGIN:VEVENT
CLASS:PUBLIC
CREATED:20260419T172256Z
DESCRIPTION:As enterprises rebound from the early stages of the coronavirus pandemic and deal with the challenges of managing a hybrid work environment consisting of in-office and remote employees, one thing has become surprisingly clear: many of the old rules and concepts of digital transformation no longer apply, or at least aren't as effective in this new normal. IT is being called upon to develop new communications, collaboration and productivity solutions that can sustain and grow the business as uncertainties continue.  \n \nInnovation initiatives and emerging technologies that previously took a back seat to more functional operations are now seen as critical to sustain the business and offer some level of resiliency against future incidents. At the same time, current technologies enablers such as IoT, AI and machine learning are being fast-tracked to enhance front-line operations and are being positioned to play a more active role in customer relations, supply chain intelligence and resource allocation.\n \nJoin us as IT leaders at the forefront of the emerging intelligent enterprise detail what their organizations are doing in terms of operational resilience and outline strategies that allow them to respond more quickly and effectively to whatever lies around the corner.\n \n
DTSTART:20200930T170000
DTEND:20200930T180000
DTSTAMP:20260419T172256Z
LOCATION:Online
PRIORITY:5
SEQUENCE:0
SUMMARY;LANGUAGE=es-es:Tecnowebinars.com - :: Doubling down on digital transformation: The new normal imperative
TRANSP:OPAQUE
UID:e128e70f44c7a78dfaa5e49f49e2d76e Tecnowebinars.com
X-MICROSOFT-CDO-BUSYSTATUS:BUSY
X-MICROSOFT-CDO-IMPORTANCE:1
X-MICROSOFT-DISALLOW-COUNTER:FALSE
X-MS-OLK-ALLOWEXTERNCHECK:TRUE
X-MS-OLK-AUTOFILLLOCATION:FALSE
X-MS-OLK-CONFTYPE:0
BEGIN:VALARM
TRIGGER:-PT1440M
ACTION:DISPLAY
DESCRIPTION:Reminder
END:VALARM
END:VEVENT
END:VCALENDAR
