BEGIN:VCALENDAR
PRODID:-//Microsoft Corporation//Outlook 12.0 MIMEDIR//EN
VERSION:2.0
METHOD:PUBLISH
X-MS-OLK-FORCEINSPECTOROPEN:TRUE
BEGIN:VEVENT
CLASS:PUBLIC
CREATED:20260419T162311Z
DESCRIPTION:Previo a la celebración del 10º Eurocar Congress en septiembre de 2021, ponemos de relieve las diferentes temáticas y preocupaciones que afectan al sector del tratamiento de superficies en el sector de la Automoción, el Ferrocarril y la Aeronáutica.\n \nLa Tecnología, la Conectividad y el impacto Medioambiental de los materiales y procesos, están transformando toda la industria. La evolución hacia una industria 4.0 y la adaptación a los nuevos requerimientos, hacen destacar los casos de éxito de DÜRR y Henkel los cuales compartirán sus experiencias y los resultados que han obtenido.\n \nPonentes:\n \nManuel Cortés :Technical Manager ST Europe en Henkel\n \nJosé Gámiz:Responsable ofertas y valoración proyectos APT en DÜRR.\n \nRamos Casteres:Project Manager. Departamento Ventas y Anteproyectos PFS DÜRR.\n \nCon la moderación por parte de:\n \nJosep Vilar, Director de 10º Eurocar Congress \n
DTSTART:20200929T110000
DTEND:20200929T120000
DTSTAMP:20260419T162311Z
LOCATION:Online
PRIORITY:5
SEQUENCE:0
SUMMARY;LANGUAGE=es-es:Tecnowebinars.com - :: Nuevos Materiales e Instalaciones para el tratamiento de superficies
TRANSP:OPAQUE
UID:a2d336bba98fffaab52e80a4706e4a17 Tecnowebinars.com
X-MICROSOFT-CDO-BUSYSTATUS:BUSY
X-MICROSOFT-CDO-IMPORTANCE:1
X-MICROSOFT-DISALLOW-COUNTER:FALSE
X-MS-OLK-ALLOWEXTERNCHECK:TRUE
X-MS-OLK-AUTOFILLLOCATION:FALSE
X-MS-OLK-CONFTYPE:0
BEGIN:VALARM
TRIGGER:-PT1440M
ACTION:DISPLAY
DESCRIPTION:Reminder
END:VALARM
END:VEVENT
END:VCALENDAR
