BEGIN:VCALENDAR
PRODID:-//Microsoft Corporation//Outlook 12.0 MIMEDIR//EN
VERSION:2.0
METHOD:PUBLISH
X-MS-OLK-FORCEINSPECTOROPEN:TRUE
BEGIN:VEVENT
CLASS:PUBLIC
CREATED:20260419T143656Z
DESCRIPTION:Open Source Summit connects the open source ecosystem under one roof. It’s a unique environment for cross-collaboration between developers, sysadmins, devops, architects and others who are driving technology forward.\n \nAgenda día 5: \n06:00 GMT\nIntel Virtualization Technology Extensions to Enable Hardware Isolated VMs - Sean Christopherson, Intel\nLive Migration With Hardware Acceleration - Wei Wang, Intel\n06:30 GMT\nGuest Memory Protection -- Current Status and Future - Isaku Yamahata, Intel\nScalable Work Submission in Device Virtualization - Hao Wu, Intel\n07:00 GMT\nKVM Live Upgrade with Properly Handling of Passthrough Devices - Zhiming Feng, ByteDance\nPASID Management in KVM - Yi Liu& Jacob Pan, Intel\n07:30 GMT\nDevice Keepalive State for Local Live Migration and VMM Fast Restart - Jason Zeng, Intel\nImplementing SR-IOV Failover for Windows Guests During Migration - Yan Vugenfirer, Daynix & Annie Li, Oracle\n10:00 GMT\nEvolution of SPDK vhost Towards Secure Container Storage Service - Xiaodong Liu & Changpeng LIu, Intel\nHypervisor-managed Linear Address Translation - Chao Gao, Intel\n10:30 GMT\nDebugging KVM Using Intel DCI Technology - Raymond Zhang, Xedge.AI\nMinimizing VMExits in Private Cloud by Aggressive PV IPI and Passthrough Timer - Huaqiao & Zhouyibo, ByteDance\n11:00 GMT\nCIP (Civil Infrastructure Platform) Mini-Summit\nBoF Discussions: To Be Announced\n13:00 GMT\nState of the User Namespace - Stephane Graber & Christian Brauner, Canonical\n14:00 GMT\nQEMU Live Update - Steven J. Sistare, Oracle\nSpeeding Up VM’s I/O Sharing Host's io_uring Queues With Guests - Stefano Garzarella, Red Hat\nTBOOT and Secure Boot coexistence to launch OS even more securely. - Łukasz Hawryłko, Intel Corporation\nOpen Source Drones Summit by The Dronecode Foundation\n14:30 GMT\nFaster and Smaller qcow2 Files With Subcluster-based Allocation - Alberto Garcia, Igalia\nVirtio-(balloon|pmem|mem): Managing Guest Memory - David Hildenbrand & Michael S. Tsirkin, Red Hat\n15:00 GMT\nComparing Performance of NVMe Hard Drives in KVM, Baremetal, and Docker Using Fio and SPDK for Virtual Testbed Applications - Mauricio Tavares, RENCI\nQEMU Snaphosts Are So Slow. Really? - Denis Lunev, Virtuozzo\nBypassing Many Kernel Protections Using Elastic Objects - Yueqi Chen & Zhepeng Lin, Ph.D. Students\nOpen Mainframe Mini-Summit\n15:30 GMT\nBitmaps and NBD: Building Blocks of Change Block Tracking - Eric Blake, Red Hat\nTowards an Alternative Memory Architecture - Joao Martins, Oracle\n16:00 GMT\nBring SCSI Support Into QEMU Block Layer - Yaowei Bai, Chinamobile\nKVM Dirty Ring - A New Approach to Logging - Peter Xu, Red Hat\nContainer Runtime Support for SGX and TEE Environment - Isaku Yamahata, Intel Corporation\nDesigning, Configuring and Verifying Linux Systems with Evidences for High Quality and Fault Mitigation - Activities in the LF ELISA Project\n16:30 GMT\nImplementing Linux System Calls in QEMU - Filip Božuta, Syrmia LLC, Belgrade\nLong Live Asynchronous Page Fault! - Vitaly Kuznetsov & Vivek Goyal, Red Hat\n17:00 GMT\nPanel Discussion with Participants to be Announced Soon!\n18:00 GMT\nClosing Remarks - Elena Reshetova, Security Engineer, Intel Corporation\n
DTSTART:20201030T080000
DTEND:20201030T200000
DTSTAMP:20260419T143656Z
LOCATION:Online
PRIORITY:5
SEQUENCE:0
SUMMARY;LANGUAGE=es-es:Tecnowebinars.com - :: Open Source Summit. Por Linux Foundation. Día 5
TRANSP:OPAQUE
UID:7a628432f14e8d4036e301596efb1907 Tecnowebinars.com
X-MICROSOFT-CDO-BUSYSTATUS:BUSY
X-MICROSOFT-CDO-IMPORTANCE:1
X-MICROSOFT-DISALLOW-COUNTER:FALSE
X-MS-OLK-ALLOWEXTERNCHECK:TRUE
X-MS-OLK-AUTOFILLLOCATION:FALSE
X-MS-OLK-CONFTYPE:0
BEGIN:VALARM
TRIGGER:-PT1440M
ACTION:DISPLAY
DESCRIPTION:Reminder
END:VALARM
END:VEVENT
END:VCALENDAR
