BEGIN:VCALENDAR
PRODID:-//Microsoft Corporation//Outlook 12.0 MIMEDIR//EN
VERSION:2.0
METHOD:PUBLISH
X-MS-OLK-FORCEINSPECTOROPEN:TRUE
BEGIN:VEVENT
CLASS:PUBLIC
CREATED:20260419T143729Z
DESCRIPTION:Open Source Summit connects the open source ecosystem under one roof. It’s a unique environment for cross-collaboration between developers, sysadmins, devops, architects and others who are driving technology forward\nAgenda día 4: \n06:00 GMT\nLook Ma’, No (Real) Interrupt Controller! - Marc Zyngier, Google & Christoffer Dall, Arm\nvDPA Support in Linux Kernel - Jason Wang, Red Hat\n06:30 GMT\nAMD-vIOMMU: A Hardware-assisted Virtual IOMMU Technology - Suravee Suthikulpanit & Wei Huang, AMD\nEvaluate Implementation Options of KVM-based Type1 (or 1.5) Hypervisor - Jun Nakajima, Intel\n07:00 GMT\nA Virtual IOMMU With Cooperative DMA Buffer Tracking - Yu Zhang, Intel\nHypervisor Based Integrity: Protect Guest Kernel in Cloud - Ning Yang & Forrest Yuan Yu, Google\n07:30 GMT\nSpeed Up Creation of a VM With Pass Through GPU - Liang Li, DIDI Chuxing\nTrap-less Virtual Interrupt for KVM on RISC-V - Siqi Zhao, Huawei\n10:00 GMT\nAdvanced Parallel Memory Virtualization - Yulei Zhang, Tencent\nKVM Latency Performance Tuning - Wanpeng Li, Tencent\n10:30 GMT\nBuilding a Cloud Infrastructure to Deploy Microservices as Microvm Guests - Matias Vara Larsen, Huawei\nThe Practice Method to Speed Up 10x Boot-up Time for Guest in Alibaba Cloud - Weinan Li, Alibaba\n11:00 GMT\nBoF Discussions: To Be Announced\n13:00 GMT\nOpening Remarks - Elena Reshetova, Security Engineer, Intel Corporation\nFINOS Mini-Summit: Accelerating Open Source Software and Standards in Financial Services\n13:05 GMT\nBlock Me if You Can: Subverting IMA - Tobias Mueller, University of Hamburg\n14:00 GMT\nKeynote: KVM - Christian Bornträger, IBM\nKernel Integrity Enforcement with HLAT In a Virtual Machine - Chao Gao, Intel Corporation\nLF AI Mini-Summit\n14:15 GMT\nKeynote: QEMU - Paolo Bonzini, Red Hat\n14:30 GMT\nKVM-unit-tests: When "KVM" Doesn't Mean KVM - Andrew Jones, Red Hat\nVirtual Device Fuzzing Support in QEMU - Alexander Bulekov & Bandan Das, Red Hat\n14:40 GMT\nIntroducing TPM NV Storage with E/A Policies and TSS-FAPI - Andreas Fuchs, Fraunhofer SIT\n15:00 GMT\nA KVM-unit-tests and KVM selftests update for aarch64 - Eric Auger, Red Hat\nVirtual Versus Physical: Virtio Changes for New Hardware - Michael S. Tsirkin, Red Hat\nZephyr Mini-Summit\n15:30 GMT\nA Journey to Support vGPU in Firecracker - Liang Yan, SUSE\n15:40 GMT\nArchitectural Extensions for Hardware Virtual Machine Isolation to Advance Confidential Computing in Public Clouds - Ravi Sahita & Jun Nakajima, Intel Corporation\n16:00 GMT\nChallenges in Supporting Virtual CPU Hotplug on SoC Based Systems (like ARM64) - Salil Mehta, Huawei\nChanging Paravirt Lock-ops for a Changing World - Ankur Arora, Oracle\nIntroducing DENT OS, switchdev NOS for the rest of us\nTechnical Resume Writing Workshop - Lindsey Anne Thorne, Vaco with special guest Mary Kypreos, Transparent Systems\n16:30 GMT\nExtremely Fast and Efficient NFV with Unikraft - Felipe Huici, NEC Laboratories Europe GmbH\nHA-IOV: Applying Hardware-assisted Techniques to IO Virtualization Framework - Yifei Jiang & Bo Wan, Huawei\n16:40 GMT\nNetwork File System Security Overview: Securing SMB3 - Steven French, Microsoft\n17:25 GMT\nOverview of the Crypto-engine Improvements - Iuliana Prodan, NXP Semiconductors\n21:00 GMT\nBoF Discussions: To Be Announced\n
DTSTART:20201029T080000
DTEND:20201029T230000
DTSTAMP:20260419T143729Z
LOCATION:Online
PRIORITY:5
SEQUENCE:0
SUMMARY;LANGUAGE=es-es:Tecnowebinars.com - :: Open Source Summit. Por Linux Foundation. Día 4
TRANSP:OPAQUE
UID:4eb1dbecf291c559fecebd560c7e2974 Tecnowebinars.com
X-MICROSOFT-CDO-BUSYSTATUS:BUSY
X-MICROSOFT-CDO-IMPORTANCE:1
X-MICROSOFT-DISALLOW-COUNTER:FALSE
X-MS-OLK-ALLOWEXTERNCHECK:TRUE
X-MS-OLK-AUTOFILLLOCATION:FALSE
X-MS-OLK-CONFTYPE:0
BEGIN:VALARM
TRIGGER:-PT1440M
ACTION:DISPLAY
DESCRIPTION:Reminder
END:VALARM
END:VEVENT
END:VCALENDAR
