BEGIN:VCALENDAR
PRODID:-//Microsoft Corporation//Outlook 12.0 MIMEDIR//EN
VERSION:2.0
METHOD:PUBLISH
X-MS-OLK-FORCEINSPECTOROPEN:TRUE
BEGIN:VEVENT
CLASS:PUBLIC
CREATED:20260419T155145Z
DESCRIPTION:Open Source Summit connects the open source ecosystem under one roof. It’s a unique environment for cross-collaboration between developers, sysadmins, devops, architects and others who are driving technology forward\nAgenda día 1: \n12:00 GMT\nGive Back, Make an Impact, Build Your Career! - Ulrike Strommer, Cloudflight\nSimplifying First-boot Experience for Your Cloud VMs with Cloud-init - Ashish Sahu, Microsoft\nContainer Live Migration - Adrian Reber, Red Hat\nForging a New Open Source Hardware Contributor Model - Mark I. Himelstein, riscv.org\nBeyond "Just" Booting: Barebox Bells and Whistles - Ahmad Fatoum, Pengutronix\nUpstream First is Our Principle - Toward Super Long-Term Support - Masashi Kudo, Cybertrust Japan Co., Ltd. & Chris Paterson, Renesas Electronics Europe\nLearning the Basics of Apache NiFi for IoT - Timothy J Spann, Cloudera\nEvolution of Suspend-to-Idle Support in the Linux Kernel - Rafael Wysocki, Intel\nDistributed Revision Control for Structured Data - Gavin Mendel-Gleason, TerminusDB\nFighting Climate Change with Blockchain and Open Source - Si Chen, Open Source Strategies, Inc.\nTutorial: From an Idea to a Patch in the Linux Mainline - Marta Rybczynska, Various Projects\n12:25 GMT\nOpen Your Arms to Open Source: Solution to Bring in Social Innovations to All Walks of Life - Nupur Sharma, Ingenium Data Systems\n13:00 GMT\nConfessions of a Late Bloomer: Overcoming Obstacles and Challenges as a Woman of Color - Jennifer Madriaga, Red Hat\nCloud-Native App Development 101 - Avni Sharma, Red Hat\nIdentifying Security Challenges in Kubernetes and Hardening Them - Anirban Saha, Allianz Technology\nSharing the Load Effectively: Roles and Responsibilities in Open Source Projects - Jeffrey Osier-Mixon, Linux Foundation\nA Checklist for Writing Linux Real-Time Applications - John Ogness, Linutronix GmbH\nBoot-Time Optimization for the Real World - Michael Olbrich, Pengutronix e.K.\nTrusted Firmware: Building Secure Firmware Collaboratively - Shebu Varghese Kuriakose & Matteo Carlini, Arm\nDo We Need an Industrial Grade Linux? - Lars Geyer-Blaumeiser, Bosch.IO\nDistributed SQL vs Polyglot Persistence: Which Database Architecture for Cloud Native Microservices? - Sid Choudhury, Yugabyte Inc.\nPanel Discussion: Leveraging Blockchain to Drive Supply Chain Resilience and Accountability in the Face of Climate Change and Other Disruptions - Marta Geater-Piekarska, Hyperledger; Douglas Johnson-Poensgen, Circulor...\n13:25 GMT\nLowering Barriers to Inclusion in Open Source Ecosystems - Joanna Lee, Gesmer Updegrove LLP\n14:15 GMT\nKeynote: Opening Remarks and Project Updates - Jim Zemlin, Executive Director, The Linux Foundation with Guest Andrew Wafaa, Director of Open Source Communities & Chair, The Yocto Project\nImage Signal Processing (ISP) Drivers & How to Merge One Upstream - Helen Koike, Collabora\nWaylandifying Chromium - From Downstream to Shipping - Maksim Sisov, Igalia\nTutorial: Debugging Embedded Devices using GDB - Chris Simmonds, 2net Ltd\n14:45 GMT\nKeynote: Liz Rice, Vice President, Open Source Engineering, Aqua Security\n15:05 GMT\nKeynote: To Be Announced\n15:15 GMT\nCan I Build an Embedded Linux System with Clang - Khem Raj, Comcast\nPanel Discussion Follow-up: Do We Need an Industrial Grade Linux? - Lars Geyer-Blaumeiser, Bosch.IO; Kate Stewart, The Linux Foundation; Jan Kiszka, Siemens AG; Guy Lunardi, Collabora Limited, & Andre Barkowski...\n15:25 GMT\nKeynote: Angela Benton, Founder & CEO, Streamlytics in conversation with Nithya Ruff, Executive Director, Open Source Program Office, Comcast & Chair, Board of Directors, The Linux Foundation\n16:15 GMT\nGiving and Getting Technical Help in Open Source Without Being Scared! - Sonia Singla, CNCF\nMulti-Cloud Kubernetes: One GitOps Loop to Rule Them All - Jonathan Le Lous & Yoann Cormerais, Capgemini\nM.V.G. – Minimum Viable Governance - Stephen Walli & Sarah Novotny, Microsoft\nCreating Debian-Based Embedded Systems in the Cloud Using Debos - Christopher Obbard, Collabora Ltd.\nEmbedded Linux Systems in Smart Agriculture - Ronald Kipkirui Mutai, Burphurm Enterprises LTD, Kenya\nFuzzing Linux Drivers with Syzkaller - Ricardo Cañuelo Navarro, Collabora\nGame of Protocols: How To Pick a Network Protocol for Your IoT Project - Frédéric Desbiens, Eclipse Foundation\nMonitoring Linux Systems Using Kernel Audit Subsystem - Vandana Salve, Prasme Systems\nMySQL Performance for DevOps - Sveta Smirnova, Percona\nFrom Zero to Hero: How OSS has become Strategic in the Financial Services Industry - Gabriele Columbro, FINOS\nTutorial: DevOps_Training_Introduction-to-Containers-and Orchestrators - Rauno Riccardo De Pasquale, Newesis Srl\n16:40 GMT\nHandbook for Successful Online Open Source Sprints - Tania Allard, Microsoft & Cheuk Ting Ho, TerminusDB\n17:15 GMT\nMicroaggressions Against Women in the Workplace - Eshrak Assaf & David Lebutsch, IBM\nProgramming Extensions for Kubernetes and kubectl in Go - Philippe Martin, SFEIR\nFrom Remote First Towards Async First - Isabel Drost-Fromm, Europace AG\nDevelopment "Interrupt Storm Detection" Feature - Kento Kobayashi, Sony Corporation\nFOSS Static Analysis Tools for Embedded Systems and How to Use Them - Jan-Simon Möller, The Linux Foundation\nGetting a Time of Flight Camera Working in Linux, the Full Story from Kernel to User Space - Bogdan Togorean, Analog Devices\nFull Stack Debugging: From CI to ISS - Alexey Brodkin, Synopsys\nEfficient Syscall Emulation on Linux - Gabriel Krisman Bertazi, Collabora\nHigh Performance Database in Containerized World - Shuan Deng, PingCAP\nOpen Source COVID-19 Contact Tracing Apps to Improve Transparency and Adoption - Ana Jiménez Santamaría, Bitergia\n17:40 GMT\nOpen Source Mindset to Mindflex - How Flexing Perceptions of OSS Can Change the World - Clare Dillon, Mosslabs.io - Ireland\n18:30 GMT\nLightning Talk: Beyond Service Meshes - Pranava Adduri, Greylock Partners\nPanel Discussion: Start the Girls Off Right: How You Can Help Get Girls Interested in Technology - Misty Decker, IBM; Kaitlyn Lowe, Brighton High School; Chloe Allen-Ede, University Student; Lella Halloum, Student...\nBackup & Migration of Kubernetes Clusters Between Different Distributions - Alexandre Stratikopoulos, VMware\nTraining the Next Generation of Open Source Developers - Jeremy Garcia, Datadog\nDebian and Yocto Project: a Tale of Two Distros (One of Which is Not a Distro) - Chris Simmonds, 2net Ltd\nFrom the Camera Sensor to the User, the Journey of a Video Frame - Maxime Chevallier, Bootlin\nGadgets and Trinkets, The Upstream Linux Way - Geert Uytterhoeven, Glider bv\nMix Edge and Electric Vehicles to Get a Shot at Sustainability - Diana Atanasova & Tsvetomir Stoyanov, VMware\nA New Mount API - Christian Brauner, Canonical\nIntegrating Graph Databases Into Your Architecture With GraphQL - Rob Perry, FireEye\nAdvancing Financial Inclusion Through Open Source Payment Models - Paula Hunter & Konstantin Peric, Mojaloop Foundation\n18:40 GMT\nLightning Talk: Adopting Service Mesh Patterns for Cloud Native Microservices in the Telecommunications Industry - Sudeep Batra, Ericsson\n18:50 GMT\nLightning Talk: A Weather Balloon Example to Authenticate Data - Nicolas Lopez, Telokanda Remote Sensing Company\n18:55 GMT\nSurviving (and thriving) as a Woman in a Man's World - Aireal Liddle, Cozy Cybersecurity\n19:30 GMT\nWriting Your Own Kernel Cryptographic Accelerator Driver - Tero Kristo, Texas Instruments\nPanel Discussion: Tangible Actions to Achieve DEI (Diversity, Equity, and Inclusion) in Corporations and Communities - Lisa-Marie Namphy, Dev Advocate & Community Architect; Lauren Maffeo, Steampunk; Joseph Sandoval...\nContainer Security 101 - Sangram Rath, Cloud Architect & Technology Advisor\nBoF: Hybrid Cloud Data Management Across Heterogeneous Storages - Sanil Kumar D., Huawei / SODA Foundation & Kei Kusonoki, NTT Communications\nCommunity Transformation - Enable Scalable Onboarding through Data Driven Initiatve - Sriram Ramkrishna, ITRenew Inc.\nBoF: The Yocto Project and OpenEmbedded - Nicolas Dechesne, Linaro & Armin Kuster, MontaVista Software, LLC\nWhat Differs the Android Open Source Project from Other Linux Distributions? - Sergio Prado, Toradex\nBoF: KernelCI: Lessons Learned - Guillaume Tucker, Collabora\nPurpose-built Observability Solutions using Open Source Software: Lessons from the Field - Avthar Sewrathan, Timescale\nBOF: Discussing Metrics for Open Source in Light of Insights from the CHAOSS Project - Georg Link, Bitergia\n19:55 GMT\nThree Pillars: The Connection of Communication, a Diverse Team, and Engagement - Aparna Durgaprasad, IBM Systems\n
DTSTART:20200928T140000
DTEND:20200928T230000
DTSTAMP:20260419T155145Z
LOCATION:Online
PRIORITY:5
SEQUENCE:0
SUMMARY;LANGUAGE=es-es:Tecnowebinars.com - :: Open Source Summit. Por Linux Foundation. Día 3
TRANSP:OPAQUE
UID:117f38ae551aa1d4366576b3fba788de Tecnowebinars.com
X-MICROSOFT-CDO-BUSYSTATUS:BUSY
X-MICROSOFT-CDO-IMPORTANCE:1
X-MICROSOFT-DISALLOW-COUNTER:FALSE
X-MS-OLK-ALLOWEXTERNCHECK:TRUE
X-MS-OLK-AUTOFILLLOCATION:FALSE
X-MS-OLK-CONFTYPE:0
BEGIN:VALARM
TRIGGER:-PT1440M
ACTION:DISPLAY
DESCRIPTION:Reminder
END:VALARM
END:VEVENT
END:VCALENDAR
