BEGIN:VCALENDAR
PRODID:-//Microsoft Corporation//Outlook 12.0 MIMEDIR//EN
VERSION:2.0
METHOD:PUBLISH
X-MS-OLK-FORCEINSPECTOROPEN:TRUE
BEGIN:VEVENT
CLASS:PUBLIC
CREATED:20260419T143530Z
DESCRIPTION:Cibertodos reúne a más de 250 profesionales de la Ciberseguridad en España. NIST CSF es el estándar de ciberseguridad que en los últimos años ha tomado un protagonismo creciente al haber sido elegido por grandes compañías a nivel internacional como su marco de trabajo de ciberseguridad. \n \nEl objetivo es estructurar el congreso Cibertodos 2020 en los 5 grandes dominios del framework NIST CSF: identificar, proteger, detectar, responder y recuperar. Se organizará uno por cada jornada, con temas relevantes y de actualidad en cada uno de dichos ámbitos.\n \nEste evento contará con la colaboración y participación de las principales entidades del sector, como son el Departamento de Seguridad Nacional (DSN), el Centro Criptológico Nacional (CCN-CERT), el Mando Conjunto del Ciberespacio (MCCE), el Instituto Nacional de Ciberseguridad (INCIBE), el Centro Nacional para la Protección de las Infraestructuras y la Ciberseguridad (CNPIC), la Guardia Civil, la Policía Nacional, y otros organismos relevantes.\n \nAgenda día 5:\nTemática: RECUPERAR\n18:00 Bienvenida\nRicardo Barrasa, Presidente de ISACA Madrid\n18:05 Apertura institucional\nPendiente (LATAM)\n18:20 Entrevista a fondo\nFélix Muñoz, Director General de Entelgy Innotec Security\nEntrevistador: Carlos Otto, Periodista de tecnología, economía, reportajes y emprendimiento en El Confidencial\n18:45 Mesa redonda "Responsabilidad del CEO frente a los ciberataques: el binomio técnico-empresarial"\nPendiente \nPendiente\nPendiente (LATAM)\nPendiente (LATAM)\nModera: Jesús Sánchez, CEO de Audea Seguridad de la Información\n
DTSTART:20201029T180000
DTEND:20201029T200000
DTSTAMP:20260419T143530Z
LOCATION:Online
PRIORITY:5
SEQUENCE:0
SUMMARY;LANGUAGE=es-es:Tecnowebinars.com - :: CIBERTODOS 2020 sobre ciberseguridad 360: Día 5
TRANSP:OPAQUE
UID:ef942af8f001d66aeaed7f6a944c8060 Tecnowebinars.com
X-MICROSOFT-CDO-BUSYSTATUS:BUSY
X-MICROSOFT-CDO-IMPORTANCE:1
X-MICROSOFT-DISALLOW-COUNTER:FALSE
X-MS-OLK-ALLOWEXTERNCHECK:TRUE
X-MS-OLK-AUTOFILLLOCATION:FALSE
X-MS-OLK-CONFTYPE:0
BEGIN:VALARM
TRIGGER:-PT1440M
ACTION:DISPLAY
DESCRIPTION:Reminder
END:VALARM
END:VEVENT
END:VCALENDAR
