BEGIN:VCALENDAR
PRODID:-//Microsoft Corporation//Outlook 12.0 MIMEDIR//EN
VERSION:2.0
METHOD:PUBLISH
X-MS-OLK-FORCEINSPECTOROPEN:TRUE
BEGIN:VEVENT
CLASS:PUBLIC
CREATED:20260419T161208Z
DESCRIPTION:Cibertodos reúne a más de 250 profesionales de la Ciberseguridad en España. NIST CSF es el estándar de ciberseguridad que en los últimos años ha tomado un protagonismo creciente al haber sido elegido por grandes compañías a nivel internacional como su marco de trabajo de ciberseguridad. \n \nEl objetivo es estructurar el congreso Cibertodos 2020 en los 5 grandes dominios del framework NIST CSF: identificar, proteger, detectar, responder y recuperar. Se organizará uno por cada jornada, con temas relevantes y de actualidad en cada uno de dichos ámbitos.\n \nEste evento contará con la colaboración y participación de las principales entidades del sector, como son el Departamento de Seguridad Nacional (DSN), el Centro Criptológico Nacional (CCN-CERT), el Mando Conjunto del Ciberespacio (MCCE), el Instituto Nacional de Ciberseguridad (INCIBE), el Centro Nacional para la Protección de las Infraestructuras y la Ciberseguridad (CNPIC), la Guardia Civil, la Policía Nacional, y otros organismos relevantes.\n \nAgenda día 3:\nTemática: DETECTAR\n18:00 Bienvenida\nRicardo Barrasa, Presidente de ISACA Madrid\n18:05 Apertura institucional\nCor. Luis Fernando Hernández, Jefe del Área Técnica de La Jefatura de Información de la Guardia Civil*\n18:20 Entrevista a fondo pendiente\nEntrevistador: Carlos Otto, Periodista de tecnología, economía, reportajes y emprendimiento en El Confidencial\n18:45 Mesa redonda "La desinformación como vector de desestabilización. Cómo ayuda la ciberinteligencia"\nIván Portillo, Cyber Intelligence and Security Senior Analyst - Financial Services EMEIA de EY y Co-fundador de la comunidad Ginseg\nJaime Restrepo, CEO en DragonJAR (Colombia)\nAndy Ramos Gil, Counsel de Perez Llorca\nPendiente\nPendiente\nModera: Félix Arteaga, Investigador principal, Seguridad y Defensa del Real Instituto Elcano\n \n
DTSTART:20201015T180000
DTEND:20201015T200000
DTSTAMP:20260419T161208Z
LOCATION:Online
PRIORITY:5
SEQUENCE:0
SUMMARY;LANGUAGE=es-es:Tecnowebinars.com - :: CIBERTODOS 2020 sobre ciberseguridad 360: Día 3
TRANSP:OPAQUE
UID:ca5252d451509a07163951ea23463f92 Tecnowebinars.com
X-MICROSOFT-CDO-BUSYSTATUS:BUSY
X-MICROSOFT-CDO-IMPORTANCE:1
X-MICROSOFT-DISALLOW-COUNTER:FALSE
X-MS-OLK-ALLOWEXTERNCHECK:TRUE
X-MS-OLK-AUTOFILLLOCATION:FALSE
X-MS-OLK-CONFTYPE:0
BEGIN:VALARM
TRIGGER:-PT1440M
ACTION:DISPLAY
DESCRIPTION:Reminder
END:VALARM
END:VEVENT
END:VCALENDAR
