BEGIN:VCALENDAR
PRODID:-//Microsoft Corporation//Outlook 12.0 MIMEDIR//EN
VERSION:2.0
METHOD:PUBLISH
X-MS-OLK-FORCEINSPECTOROPEN:TRUE
BEGIN:VEVENT
CLASS:PUBLIC
CREATED:20260419T172323Z
DESCRIPTION:Cibertodos reúne a más de 250 profesionales de la Ciberseguridad en España. NIST CSF es el estándar de ciberseguridad que en los últimos años ha tomado un protagonismo creciente al haber sido elegido por grandes compañías a nivel internacional como su marco de trabajo de ciberseguridad. \nEl objetivo es estructurar el congreso Cibertodos 2020 en los 5 grandes dominios del framework NIST CSF: identificar, proteger, detectar, responder y recuperar. Se organizará uno por cada jornada, con temas relevantes y de actualidad en cada uno de dichos ámbitos.\n \nEste evento contará con la colaboración y participación de las principales entidades del sector, como son el Departamento de Seguridad Nacional (DSN), el Centro Criptológico Nacional (CCN-CERT), el Mando Conjunto del Ciberespacio (MCCE), el Instituto Nacional de Ciberseguridad (INCIBE), el Centro Nacional para la Protección de las Infraestructuras y la Ciberseguridad (CNPIC), la Guardia Civil, la Policía Nacional, y otros organismos relevantes.\n\nAgenda día 1:\nTemática: IDENTIFICAR\n18:00 Bienvenida\nRicardo Barrasa, Presidente de ISACA Madrid\n18:05 Apertura institucional\nRosa Díaz, Directora General de INCIBE\n18:20 Entrevista a fondo\nMiguel Ángel Ballesteros Martín, Director General del Departamento de Seguridad Nacional\nEntrevistador: Carlos Otto, Periodista de tecnología, economía, reportajes y emprendimiento en El Confidencial\n18:45 Mesa redonda "Radiografía de la ciberseguridad en el primer semestre de 2020"\nSusana González Ruisánchez, Abogado especialista en privacidad, estrategia digital, compliance y ciberseguridad\nPablo López, jefe del Área de Normativa y Servicios de Ciberseguridad del Centro Criptológico Nacional\nCor. Francisco Palomo Pérez, Comandante de la Fuerza de Operaciones en el Ciberespacio (FOCE) del Mando Conjunto del Ciberespacio (MCCE)\nPedro Janices, Fundador y responsable de la unidad académica de la Fundación Capa 8 (Argentina)\nModera: Casimiro Nevado, Inspector, Coordinador C1b3rWall y Cyb3rWall Academy de la Policía Nacional\n \n
DTSTART:20201001T180000
DTEND:20201001T200000
DTSTAMP:20260419T172323Z
LOCATION:Online
PRIORITY:5
SEQUENCE:0
SUMMARY;LANGUAGE=es-es:Tecnowebinars.com - :: CIBERTODOS 2020 sobre ciberseguridad 360: Día 1
TRANSP:OPAQUE
UID:e7d9a5bc029e0617e4cf359af9a59081 Tecnowebinars.com
X-MICROSOFT-CDO-BUSYSTATUS:BUSY
X-MICROSOFT-CDO-IMPORTANCE:1
X-MICROSOFT-DISALLOW-COUNTER:FALSE
X-MS-OLK-ALLOWEXTERNCHECK:TRUE
X-MS-OLK-AUTOFILLLOCATION:FALSE
X-MS-OLK-CONFTYPE:0
BEGIN:VALARM
TRIGGER:-PT1440M
ACTION:DISPLAY
DESCRIPTION:Reminder
END:VALARM
END:VEVENT
END:VCALENDAR
