BEGIN:VCALENDAR
PRODID:-//Microsoft Corporation//Outlook 12.0 MIMEDIR//EN
VERSION:2.0
METHOD:PUBLISH
X-MS-OLK-FORCEINSPECTOROPEN:TRUE
BEGIN:VEVENT
CLASS:PUBLIC
CREATED:20260419T143657Z
DESCRIPTION:Acompáñanos en esta serie de talleres donde mostraremos cómo lograr resultados de negocio utilizando diferentes plataformas de analítica. Cada uno de estos talleres serán completamente prácticos y nos concentraremos en casos de uso reales. \n \nEste webinar tendrá como tema a desarrollar: ¿Y cómo saber el impacto de tus decisiones financieras? Uso de VDT y locaciones para Dummies con SAP Analytics Cloud\n \n
DTSTART:20201125T190000
DTEND:20201125T194500
DTSTAMP:20260419T143657Z
LOCATION:Online
PRIORITY:5
SEQUENCE:0
SUMMARY;LANGUAGE=es-es:Tecnowebinars.com - :: Análisis del Impacto de tus decisiones financieras con Sap Analytics Cloud
TRANSP:OPAQUE
UID:f74bc5e4f1aa060e8a4788f7e220db07 Tecnowebinars.com
X-MICROSOFT-CDO-BUSYSTATUS:BUSY
X-MICROSOFT-CDO-IMPORTANCE:1
X-MICROSOFT-DISALLOW-COUNTER:FALSE
X-MS-OLK-ALLOWEXTERNCHECK:TRUE
X-MS-OLK-AUTOFILLLOCATION:FALSE
X-MS-OLK-CONFTYPE:0
BEGIN:VALARM
TRIGGER:-PT1440M
ACTION:DISPLAY
DESCRIPTION:Reminder
END:VALARM
END:VEVENT
END:VCALENDAR
