BEGIN:VCALENDAR
PRODID:-//Microsoft Corporation//Outlook 12.0 MIMEDIR//EN
VERSION:2.0
METHOD:PUBLISH
X-MS-OLK-FORCEINSPECTOROPEN:TRUE
BEGIN:VEVENT
CLASS:PUBLIC
CREATED:20260419T143729Z
DESCRIPTION:Acompáñanos en esta serie de talleres donde mostraremos cómo lograr resultados de negocio utilizando diferentes plataformas de analítica. Cada uno de estos talleres serán completamente prácticos y nos concentraremos en casos de uso reales. \n \nEste webinar tendrá como tema a desarrollar:  ¿Quieres resultados y proyecciones más acertadas? Forecast y predicciones para Dummies con SAP Analytics Cloud\n \n
DTSTART:20201118T190000
DTEND:20201118T194500
DTSTAMP:20260419T143729Z
LOCATION:Online
PRIORITY:5
SEQUENCE:0
SUMMARY;LANGUAGE=es-es:Tecnowebinars.com - :: Modelos de clasificación de márketing y ventas para Dummies con SAP Analytics Cloud
TRANSP:OPAQUE
UID:9eb9420af33cb63c7fff3f9fae30817e Tecnowebinars.com
X-MICROSOFT-CDO-BUSYSTATUS:BUSY
X-MICROSOFT-CDO-IMPORTANCE:1
X-MICROSOFT-DISALLOW-COUNTER:FALSE
X-MS-OLK-ALLOWEXTERNCHECK:TRUE
X-MS-OLK-AUTOFILLLOCATION:FALSE
X-MS-OLK-CONFTYPE:0
BEGIN:VALARM
TRIGGER:-PT1440M
ACTION:DISPLAY
DESCRIPTION:Reminder
END:VALARM
END:VEVENT
END:VCALENDAR
