BEGIN:VCALENDAR
PRODID:-//Microsoft Corporation//Outlook 12.0 MIMEDIR//EN
VERSION:2.0
METHOD:PUBLISH
X-MS-OLK-FORCEINSPECTOROPEN:TRUE
BEGIN:VEVENT
CLASS:PUBLIC
CREATED:20260419T143821Z
DESCRIPTION:Acompáñanos en esta serie de talleres donde mostraremos cómo lograr resultados de negocio utilizando diferentes plataformas de analítica. Cada uno de estos talleres serán completamente prácticos y nos concentraremos en casos de uso reales. \n \nEste webinar tendrá como tema a desarrollar: Deja que tus datos hablen fácilmente por ti: desde promedios móviles hasta tasa de crecimiento anual compuesto para Dummies\n
DTSTART:20201028T190000
DTEND:20201028T194500
DTSTAMP:20260419T143821Z
LOCATION:Online
PRIORITY:5
SEQUENCE:0
SUMMARY;LANGUAGE=es-es:Tecnowebinars.com - :: Taller de analítica avanzada para Dummies con Tibco Spotfire
TRANSP:OPAQUE
UID:43727fc6b8133609e8ccf66aa838b9a9 Tecnowebinars.com
X-MICROSOFT-CDO-BUSYSTATUS:BUSY
X-MICROSOFT-CDO-IMPORTANCE:1
X-MICROSOFT-DISALLOW-COUNTER:FALSE
X-MS-OLK-ALLOWEXTERNCHECK:TRUE
X-MS-OLK-AUTOFILLLOCATION:FALSE
X-MS-OLK-CONFTYPE:0
BEGIN:VALARM
TRIGGER:-PT1440M
ACTION:DISPLAY
DESCRIPTION:Reminder
END:VALARM
END:VEVENT
END:VCALENDAR
