BEGIN:VCALENDAR
PRODID:-//Microsoft Corporation//Outlook 12.0 MIMEDIR//EN
VERSION:2.0
METHOD:PUBLISH
X-MS-OLK-FORCEINSPECTOROPEN:TRUE
BEGIN:VEVENT
CLASS:PUBLIC
CREATED:20260419T162254Z
DESCRIPTION:Tangible, reliable business information is like gold dust in the supply chain industry right now. As a supply chain leader, you need to be in-the-know in this fast changing, dynamic world. This agenda has been specially curated to provide you with the information you need to set the vision for your company.\n \nAgenda día 2:\n \n-Fireside Chat: Consumer-Centric Supply Chain Strategy\nSandra MacQuillan EVP & CSCO Mondelēz International\nModerator Emma Cosgrove Supply Chain Reporter Industry Dive\n-The Power of Flexibility: Making Adjustments in the Never Normal \nScott Sureddin CEO DHL Supply Chain North America\n(Moderator) Lee Klaskow Senior Analyst - Transportation and Logistics Bloomberg Intelligence\n-Cutting Edge Technologies Shaping the Future of Supply Chain \nScott Price President, International UPS\nPandemics, Natural Disasters… Shocks: The Need for Proactive Risk Management \nWilliam Faltstich Vice President, Global Supply Chain - Sterile Injectable Hospital Business Pfizer\nRavi Dosanjh Head of Strategic Programs Intel\nSandra MacQuillan EVP & CSCO Mondelēz International\nDave Belter VP & GM of Global Transportation Management Ryder System\nModerator Marina Mayer Editor-in-chief Food Logistics and Supply Chain & Demand Chain Executive\n-Fireside Chat: An Airline View – The Future of eCommerce and Last Mile Delivery \nRobert Walpole Vice President, Cargo Operations & Logistics Delta Air Lines\nAn eCommerce Fulfilment Strategy to Delight in the age of Direct-to-Consumer \nMartin L. Reid CSCO Godiva Chocolatier\nTom Galluzzo CTO & Founder IAM Robotics\nMatt Konkle Senior Managing Director, Head of Industry Teams G2 Capital Advisors\nRobert Walpole Vice President, Cargo Operations & Logistics Delta Air Lines\n-Empowering Entrepreneurs to Stay at the Forefront of Logistics \nJoe Beacom Chief Safety & Operations Officer Landstar\n-Fireside Chat: Data Drives the Future of Connected Logistics \nGreg Lehmkuhl President & CEO Lineage Logistics\n(Moderator) Emma Cosgrove Supply Chain Reporter Industry Dive\n-Unlock Efficiencies through Targeted Automation \nMark Singh Co-Founder & CEO Kaptura\nAndrew Pery Process Intelligence Expert ABBYY\nNick Verceles SVP, North American Sales Coyote Logistics\nSudarsan Thattai CIO Lineage Logistics\nModerator Susan Beardslee Principal Analyst ABI Research\n
DTSTART:20201008T170000
DTEND:20201008T230000
DTSTAMP:20260419T162254Z
LOCATION:Online
PRIORITY:5
SEQUENCE:0
SUMMARY;LANGUAGE=es-es:Tecnowebinars.com - :: El futuro de la Cadena de Suministro. Conferencia Online. Día 2
TRANSP:OPAQUE
UID:f819d4440996a3b54e7a069300e2b854 Tecnowebinars.com
X-MICROSOFT-CDO-BUSYSTATUS:BUSY
X-MICROSOFT-CDO-IMPORTANCE:1
X-MICROSOFT-DISALLOW-COUNTER:FALSE
X-MS-OLK-ALLOWEXTERNCHECK:TRUE
X-MS-OLK-AUTOFILLLOCATION:FALSE
X-MS-OLK-CONFTYPE:0
BEGIN:VALARM
TRIGGER:-PT1440M
ACTION:DISPLAY
DESCRIPTION:Reminder
END:VALARM
END:VEVENT
END:VCALENDAR
