BEGIN:VCALENDAR
PRODID:-//Microsoft Corporation//Outlook 12.0 MIMEDIR//EN
VERSION:2.0
METHOD:PUBLISH
X-MS-OLK-FORCEINSPECTOROPEN:TRUE
BEGIN:VEVENT
CLASS:PUBLIC
CREATED:20260419T162255Z
DESCRIPTION:Tangible, reliable business information is like gold dust in the supply chain industry right now. As a supply chain leader, you need to be in-the-know in this fast changing, dynamic world. This agenda has been specially curated to provide you with the information you need to set the vision for your company.\n \nAgenda día 1:\n \n-Putting Sustainability Front and Center of the Supply Chain\nPeder Tuborgh CEO Arla Foods\n(Moderator) Scott Luton Founder, CEO & Host Supply Chain Now\n(Moderator) Greg White Principal & Host Supply Chain Now\n-Fireside Chat: Embracing Disruption in a Constantly Evolving World\nRobert Sanchez Chairman & CEO Ryder System\n(Moderator) Rachel Premack Senior Transportation Reporter Business Insider\n-Driving Supply Chain Efficiency Through Digital Transformation\nGert Sylvest Co-Founder Tradeshift, GM Tradeshift Frontiers Tradeshift\n-Towards a More Sustainable Supply Chain \nJason Reiman SVP, CSCO The Hershey Company\nAbe Eshkenazi CEO ASCM\nLaura Nador President CHEP North America & BXB Digital CHEP\nCarlos Valderrama SVP, Global Customer Success Llamasoft\nGert Sylvest Co-Founder Tradeshift, GM Tradeshift Frontiers Tradeshift\nModerator Susan Beardslee Principal Analyst ABI Research\n-The Pivotal Role of Reimagined Operations to a Stronger, Resilient Future \nEdward Barriball Partner McKinsey & Company\nSupply Chain Visibility for a Connected, Customer-Focused Business \nRussell Felker CTO GlobalTranz\nColin Yankee EVP, CSCO Tractor Supply Company\nLuis Pajares EVP & Chief Revenue Officer Turvo\nChris Hughes Managing Director, Practice Leader of -Transportation & Logistics G2 Capital Advisors\nEdward Barriball Partner McKinsey & Company\nModerator Chris Cunanne Research Director, Supply Chain Management ARC Advisory Group\n-Optimize Your Operations for the Work-From-Anywhere Era \nAnnie Adams EVP & Chief Transformation Officer Norfolk Southern\n-Industry 4.Human: Bridging the knowledge gap \nPieter Barendrecht CEO Procentec\nWorkforce Management for the Next New Normal \nJulie Hunt Solutions Executive Blue Yonder\nChris Harmon WFM Business Analyst Harris Teeter\n-How Blockchain is Impacting the Mandates for Resilient Supply Chain \nRaj Rao General Manager, Distribution IBM\n-Customer-Centricity in a World Riddled with Uncertainty \nJudy McReynolds Chairman, President and CEO ArcBest\n-The Evolution of the Last Mile \nMichael Murphy EVP of Development CenterPoint\nArnaud Deshais CSCO Redbubble\nErik Caldwell President, Last Mile XPO Logistics\nKaren Leavitt CMO Locus Robotics\nModerator Bob Bowman Editor-In-Chief SupplyChainBrain\n
DTSTART:20201007T170000
DTEND:20201007T230000
DTSTAMP:20260419T162255Z
LOCATION:Online
PRIORITY:5
SEQUENCE:0
SUMMARY;LANGUAGE=es-es:Tecnowebinars.com - :: El futuro de la Cadena de Suministro. Conferencia Online. Día 1
TRANSP:OPAQUE
UID:92ed9f3cd6ef1c71d11e8858fa3df37a Tecnowebinars.com
X-MICROSOFT-CDO-BUSYSTATUS:BUSY
X-MICROSOFT-CDO-IMPORTANCE:1
X-MICROSOFT-DISALLOW-COUNTER:FALSE
X-MS-OLK-ALLOWEXTERNCHECK:TRUE
X-MS-OLK-AUTOFILLLOCATION:FALSE
X-MS-OLK-CONFTYPE:0
BEGIN:VALARM
TRIGGER:-PT1440M
ACTION:DISPLAY
DESCRIPTION:Reminder
END:VALARM
END:VEVENT
END:VCALENDAR
