BEGIN:VCALENDAR
PRODID:-//Microsoft Corporation//Outlook 12.0 MIMEDIR//EN
VERSION:2.0
METHOD:PUBLISH
X-MS-OLK-FORCEINSPECTOROPEN:TRUE
BEGIN:VEVENT
CLASS:PUBLIC
CREATED:20260419T143729Z
DESCRIPTION:REGISTRO Y AGENDA\nLa tecnología juega un papel importante en la transformación de las industrias. Las fintech están revolucionando la industria financiera gracias a las innovaciones tecnológicas. Los consumidores quieren más servicios personalizados que aumenten su comodidad y mantengan su seguridad. Presentaremos en la 2da. edición los Retos y Oportunidades que traen las nuevas tecnologías y analizar el sector financiero en tiempos de COVID-19, con el propósito de contribuir con la difusión de conocimiento general sobre la innovación en los servicios, productos y modelos de negocio en el sector financiero.\nFinTech Innovation Summit Virtual Experience es un congreso con sesiones de networking interactivo que reúne a los principales referentes de la industria bancaria y financiera y, las compañías tecnológicas más influyentes, disruptivas e innovadoras que están redefiniendo los servicios financieros en todas las áreas de fintech: préstamos, pagos, big data, crypto, blockchain, InsureTech y también cubriremos la colaboración banco-fintech y mucho más.\n \nEste evento está dirigido al ecosistema fintech; desde empresarios fintech a profesionales de finanzas, inversores, bancos, abogados y otros profesionales de la tecnología como así también  desarrolladores de apps y empresas TIC o no TIC pero interesadas en las oportunidades de negocio que ofrece el sector.\n\n\n\n
DTSTART:20201125T150000
DTEND:20201125T200000
DTSTAMP:20260419T143729Z
LOCATION:Online
PRIORITY:5
SEQUENCE:0
SUMMARY;LANGUAGE=es-es:Tecnowebinars.com - :: Fintech Innovation Summit [Conferencia Online]
TRANSP:OPAQUE
UID:bc469e2bb3fb2d2aa3242ff15d448cd3 Tecnowebinars.com
X-MICROSOFT-CDO-BUSYSTATUS:BUSY
X-MICROSOFT-CDO-IMPORTANCE:1
X-MICROSOFT-DISALLOW-COUNTER:FALSE
X-MS-OLK-ALLOWEXTERNCHECK:TRUE
X-MS-OLK-AUTOFILLLOCATION:FALSE
X-MS-OLK-CONFTYPE:0
BEGIN:VALARM
TRIGGER:-PT1440M
ACTION:DISPLAY
DESCRIPTION:Reminder
END:VALARM
END:VEVENT
END:VCALENDAR
