BEGIN:VCALENDAR
PRODID:-//Microsoft Corporation//Outlook 12.0 MIMEDIR//EN
VERSION:2.0
METHOD:PUBLISH
X-MS-OLK-FORCEINSPECTOROPEN:TRUE
BEGIN:VEVENT
CLASS:PUBLIC
CREATED:20260419T131550Z
DESCRIPTION:VER VIDEO\n \nEste taller ayudará a los asistentes a, entender el pensamiento y la gestión del trabajo visual.\n \nExplorar nuevas maneras de organizarse y gestionar el trabajo, aprendiendo diversas técnicas para expresar de una forma más efectiva y sintética ideas\n \nObjetivos\n \nConocer herramientas de gestión visual de proyectos que permitan definir un nuevo proyecto, gestionar su seguimiento con el equipo o generar reflexiones de una forma más visual y creativa, fomentando la coordinación y la transparencia. Potenciar la innovación y la toma de decisiones efectiva.\n \nTemario:\n \n•	Formas básicas.\n•	Líneas, formas y objetos, \n•	Contenedores, \n•	Texto, \n•	Iconos, \n•	Personas y expresiones, \n•	Color + Blanco, \n•	Efectos.\n \nVER VIDEO\n
DTSTART:20201223T153000
DTEND:20201223T163000
DTSTAMP:20260419T131550Z
LOCATION:Online
PRIORITY:5
SEQUENCE:0
SUMMARY;LANGUAGE=es-es:Tecnowebinars.com - :: Taller práctico de formas básicas en Visual Thinking
TRANSP:OPAQUE
UID:c7d3bf1b7d6945f4a1fa1775b90fe7c2 Tecnowebinars.com
X-MICROSOFT-CDO-BUSYSTATUS:BUSY
X-MICROSOFT-CDO-IMPORTANCE:1
X-MICROSOFT-DISALLOW-COUNTER:FALSE
X-MS-OLK-ALLOWEXTERNCHECK:TRUE
X-MS-OLK-AUTOFILLLOCATION:FALSE
X-MS-OLK-CONFTYPE:0
BEGIN:VALARM
TRIGGER:-PT1440M
ACTION:DISPLAY
DESCRIPTION:Reminder
END:VALARM
END:VEVENT
END:VCALENDAR
