BEGIN:VCALENDAR
PRODID:-//Microsoft Corporation//Outlook 12.0 MIMEDIR//EN
VERSION:2.0
METHOD:PUBLISH
X-MS-OLK-FORCEINSPECTOROPEN:TRUE
BEGIN:VEVENT
CLASS:PUBLIC
CREATED:20260419T131558Z
DESCRIPTION: VER VIDEO \n \nTrabajar en remoto, puede llegar a ser un infierno, pero si disponemos de un kit de supervivencia básico cargado de conceptos, consejos y recomendaciones puede ser el paraiso. Decide si quieres estar en el cielo o en el infierno.\n \nObjetivos\nPretendemos aportar un faro de luz en esta transición hacia el trabajo remoto, para sentirnos más cómodos conociendo herramientas que nos facilitaran el trabajo impulsando nuestras entregas\n \nTemario:\n \n•	¿Qué necesito para trabajar en remoto?\n \no	Lugar\no	Hábitos\no	Actitud\n \n•	3 Elementos fundamentales para trabajar en remoto.\n \n•	Herramientas\n \no	Repositorios de documentación\no	Salas virtuales\no	Pizarras Virtuales\no	Organiza tu tiempo\no	Colaborando con tus compañeros\n VER VIDEO \n
DTSTART:20201210T163000
DTEND:20201210T173000
DTSTAMP:20260419T131558Z
LOCATION:Online
PRIORITY:5
SEQUENCE:0
SUMMARY;LANGUAGE=es-es:Tecnowebinars.com - :: Herramientas Agiles de Teletrabajo
TRANSP:OPAQUE
UID:e9639d7a79292642275847c04c75d1f8 Tecnowebinars.com
X-MICROSOFT-CDO-BUSYSTATUS:BUSY
X-MICROSOFT-CDO-IMPORTANCE:1
X-MICROSOFT-DISALLOW-COUNTER:FALSE
X-MS-OLK-ALLOWEXTERNCHECK:TRUE
X-MS-OLK-AUTOFILLLOCATION:FALSE
X-MS-OLK-CONFTYPE:0
BEGIN:VALARM
TRIGGER:-PT1440M
ACTION:DISPLAY
DESCRIPTION:Reminder
END:VALARM
END:VEVENT
END:VCALENDAR
