BEGIN:VCALENDAR
PRODID:-//Microsoft Corporation//Outlook 12.0 MIMEDIR//EN
VERSION:2.0
METHOD:PUBLISH
X-MS-OLK-FORCEINSPECTOROPEN:TRUE
BEGIN:VEVENT
CLASS:PUBLIC
CREATED:20260419T160326Z
DESCRIPTION:Join a global community with thousands of software developers, architects and IT executives online at CamundaCon Live 2020.2 the process automation event for the cloud era. CamundaCon brings together the global Camunda community to discuss best practices and use cases. Get product updates and inspiration from the team behind Camunda.\n \n(Agenda shown in your browser’s local time)\n \nAgenda día 2:\n06:00AM(UTC-05:00)\nKeynote: The Return of Process Automation!\nBernd Ruecker, Camunda\n06:45AM(UTC-05:00)\nKeynote: These Are Not the Bots You Are Looking for…RPA Modernization with Camunda\nDaniel Meyer, Camunda\n07:45AM(UTC-05:00)\nIntegration Patterns With Camunda\nSowmya Raghunathan, Indiana Farm Bureau\nDMN on Steroids – to Decision Tables and Beyond\nJan Galinski at Holisticon\n08:15AM(UTC-05:00)\nbpm@pnw – Scaling Process Automation at Provinzial NordWest\nAndré Wickenhöfer, Provinzial NordWest\nBjörn Brinkmann, Co-Founder and Chairman of the BBHT Beratungsgesellschaft mbH & Co\nSmarter Workflows with Natural Language Processing\nPraveen Ramachandran, AOT Technologies\n08:45AM(UTC-05:00)\nCamunda Roadmap and other Camunda Platform Investments.\nRick Weinberg, Camunda\nTaesting Cheesecake – Integrate Your Test Reports Easily with FlowCov\nDominik Horn, Flowsquad\nNele Uhlemann, Camunda\n09:30AM(UTC-05:00)\nBusiness Rules at a Glance\nDavid Ibl, Enterprise Architect, LV 1871\nChaos Engineering Meets Zeebe\nChristopher Zell, Camunda\n10:00AM(UTC-05:00)\nProcess Automation Case Study\n10:30AM(UTC-05:00)\nKeynote: The Ethical Algorithm: The Science of Socially Aware Algorithm Design\nDr Michael Kearns, University of Pennsylvania\n
DTSTART:20201009T130000
DTEND:20201009T184500
DTSTAMP:20260419T160326Z
LOCATION:Online
PRIORITY:5
SEQUENCE:0
SUMMARY;LANGUAGE=es-es:Tecnowebinars.com - :: Camunda Con. Process Automation for the Cloud ERA. Día 2
TRANSP:OPAQUE
UID:e1e67b2d1c1b61bd8ecfafac1f1f23f1 Tecnowebinars.com
X-MICROSOFT-CDO-BUSYSTATUS:BUSY
X-MICROSOFT-CDO-IMPORTANCE:1
X-MICROSOFT-DISALLOW-COUNTER:FALSE
X-MS-OLK-ALLOWEXTERNCHECK:TRUE
X-MS-OLK-AUTOFILLLOCATION:FALSE
X-MS-OLK-CONFTYPE:0
BEGIN:VALARM
TRIGGER:-PT1440M
ACTION:DISPLAY
DESCRIPTION:Reminder
END:VALARM
END:VEVENT
END:VCALENDAR
