BEGIN:VCALENDAR
PRODID:-//Microsoft Corporation//Outlook 12.0 MIMEDIR//EN
VERSION:2.0
METHOD:PUBLISH
X-MS-OLK-FORCEINSPECTOROPEN:TRUE
BEGIN:VEVENT
CLASS:PUBLIC
CREATED:20260419T160336Z
DESCRIPTION:Join a global community with thousands of software developers, architects and IT executives online at CamundaCon Live 2020.2 the process automation event for the cloud era. CamundaCon brings together the global Camunda community to discuss best practices and use cases. Get product updates and inspiration from the team behind Camunda.\n \n(Agenda shown in your browser’s local time)\n \nAgenda día 1:\n06:00AM(UTC-05:00)\nAutomate Any Process, Anywhere\nJakob Freund, Camunda\nArchitecture  Automation Platform Orchestration\n06:45AM(UTC-05:00)\nBots and process improvements at the same time – is that possible?\nMarco Einacker, Deutsche Telekom\n07:45AM(UTC-05:00)\nWorkflow Automation for SMBs Using Camunda\nAnil Sharma, Intuit\nArchitecture BPMN CI/CD\nOrchestrating Microservices from Modeling to Production\nBill Buzatto, ESX\n08:15AM(UTC-05:00)\nGetting the Business to Think Process Automation\nStephen Donovan, Fidelity Investments\nJames Watson, Doculabs\nBPMN Automation Platform Business\nHow Advances in the JVM Can Speed Up Camunda\nTim Zoeller, ilum:e informatik AG\n08:45AM(UTC-05:00)\nInsurance Process Chain Monitoring and Improvement with Camunda Optimize\nOmid Tansaz, Nexxbiz Operations\nAnalytics  BPMN Architecture\nTenant Onboarding and Template-Driven Multi-Tenant Workflow Processing for AD Sales Automation\nAravindh Ravi, Operative\n09:30AM(UTC-05:00)\nGuest Keynote: The Future of Process Automation\nSaikat Ray, Gartner\n10:30AM(UTC-05:00)\nSpeeding Up Robotic Process Automation through Behavioral Observation\nAndrés Jimenez Ramirez, Universidad de Sevilla\nHajo A. Reijers, Utrecht University\n11:00AM(UTC-05:00)\nThe Business Imperative for Flexible Process Automation\nSankar Krishnan, Capgemini\nSebastian Stamm, Camunda\n \n
DTSTART:20201008T130000
DTEND:20201008T184500
DTSTAMP:20260419T160336Z
LOCATION:Online
PRIORITY:5
SEQUENCE:0
SUMMARY;LANGUAGE=es-es:Tecnowebinars.com - :: Camunda Con. Process Automation for the Cloud ERA. Día 1
TRANSP:OPAQUE
UID:47bd7ff4aaf22923267f33192d74c46f Tecnowebinars.com
X-MICROSOFT-CDO-BUSYSTATUS:BUSY
X-MICROSOFT-CDO-IMPORTANCE:1
X-MICROSOFT-DISALLOW-COUNTER:FALSE
X-MS-OLK-ALLOWEXTERNCHECK:TRUE
X-MS-OLK-AUTOFILLLOCATION:FALSE
X-MS-OLK-CONFTYPE:0
BEGIN:VALARM
TRIGGER:-PT1440M
ACTION:DISPLAY
DESCRIPTION:Reminder
END:VALARM
END:VEVENT
END:VCALENDAR
