BEGIN:VCALENDAR
PRODID:-//Microsoft Corporation//Outlook 12.0 MIMEDIR//EN
VERSION:2.0
METHOD:PUBLISH
X-MS-OLK-FORCEINSPECTOROPEN:TRUE
BEGIN:VEVENT
CLASS:PUBLIC
CREATED:20260419T160335Z
DESCRIPTION:In order to meet the increased customer demand for their best-selling tea, Milo's Tea Company needed to find a way to optimize their existing operations to produce more cases. While they initially thought the best course of action was to open an additional manufacturing facility, the team at Milo's Tea found themselves asking the pertinent question, are we getting the most out of our existing assets?\n \nCould reducing downtime and short stoppages, as well as eliminating waste and digitizing their paper-based records, truly help them achieve their goals of production optimization? These questions, and their subsequent answers, would ultimately lead Milo's Tea Company to delay opening an additional facility for 18 months.\n \nJoin us on September 30th to hear how Milo's Tea Company shipped 55% more cases using the same assets and personnel while improving bottle scrap.\n
DTSTART:20200930T200000
DTEND:20200930T210000
DTSTAMP:20260419T160335Z
LOCATION:Online
PRIORITY:5
SEQUENCE:0
SUMMARY;LANGUAGE=es-es:Tecnowebinars.com - :: Sipping on Success
TRANSP:OPAQUE
UID:a9935c7ccb4ec0424d5349b623b3074b Tecnowebinars.com
X-MICROSOFT-CDO-BUSYSTATUS:BUSY
X-MICROSOFT-CDO-IMPORTANCE:1
X-MICROSOFT-DISALLOW-COUNTER:FALSE
X-MS-OLK-ALLOWEXTERNCHECK:TRUE
X-MS-OLK-AUTOFILLLOCATION:FALSE
X-MS-OLK-CONFTYPE:0
BEGIN:VALARM
TRIGGER:-PT1440M
ACTION:DISPLAY
DESCRIPTION:Reminder
END:VALARM
END:VEVENT
END:VCALENDAR
