BEGIN:VCALENDAR
PRODID:-//Microsoft Corporation//Outlook 12.0 MIMEDIR//EN
VERSION:2.0
METHOD:PUBLISH
X-MS-OLK-FORCEINSPECTOROPEN:TRUE
BEGIN:VEVENT
CLASS:PUBLIC
CREATED:20260419T143729Z
DESCRIPTION:We are experiencing a global emergency that will profoundly change the world and the way we approach it. We are all learning the immense lesson that this experience is teaching us.\n \nThe value of a community is measured in moments like this and although our way of doing may change our mission remains the same.\n \nBig Things will continue spreading technological, innovative and inspiration content. We have to adapt and find virtual ways to meet those needs in new ways.\n \nWe will continue to do what we do best: combine inspiration and learning, and most importantly, develop relationships and connections between audiences, companies and speakers to help them elevate their business and reinforce synergies.\n \nJoin us in this #BIGTH20 virtual edition and tell the world how the Big Things community react to transform the future.\n \nSpeakers:\n \nSTEPHEN WOLFRAM\nFounder and CEO of Wolfram Research\n \nMANUELA VELOSO\nJP Morgan, Head of AI Research\n \nGRADY BOOCH\nIBM, Chief Scientist for Software Engineering.\n \nSALLY EAVES\nEmergent Tech CTO, Global Strategy Advisor\n \nRAJAT MONGA\nFormer lead of TensorFlow at Google\n \nANITA SCHJØLL BREDE\nCEO at Iris.ai\n
DTSTART:20201118T130000
DTEND:20201118T200000
DTSTAMP:20260419T143729Z
LOCATION:Online
PRIORITY:5
SEQUENCE:0
SUMMARY;LANGUAGE=es-es:Tecnowebinars.com - :: Big Things Conference 2020. Día 3
TRANSP:OPAQUE
UID:55dba2b7dbb28be6e57681aa6270b810 Tecnowebinars.com
X-MICROSOFT-CDO-BUSYSTATUS:BUSY
X-MICROSOFT-CDO-IMPORTANCE:1
X-MICROSOFT-DISALLOW-COUNTER:FALSE
X-MS-OLK-ALLOWEXTERNCHECK:TRUE
X-MS-OLK-AUTOFILLLOCATION:FALSE
X-MS-OLK-CONFTYPE:0
BEGIN:VALARM
TRIGGER:-PT1440M
ACTION:DISPLAY
DESCRIPTION:Reminder
END:VALARM
END:VEVENT
END:VCALENDAR
