BEGIN:VCALENDAR
PRODID:-//Microsoft Corporation//Outlook 12.0 MIMEDIR//EN
VERSION:2.0
METHOD:PUBLISH
X-MS-OLK-FORCEINSPECTOROPEN:TRUE
BEGIN:VEVENT
CLASS:PUBLIC
CREATED:20260419T161208Z
DESCRIPTION:Acompáñanos en esta serie de talleres donde mostraremos cómo lograr resultados de negocio utilizando diferentes plataformas de analítica. Cada uno de estos talleres serán completamente prácticos y nos concentraremos en casos de uso reales. \n \nEste webinar tendrá como tema a desarrollar: Cómo crear tableros de autoservicio rápido y fácil con TIBCO Jaspersoft.\n
DTSTART:20200930T190000
DTEND:20200930T194500
DTSTAMP:20260419T161208Z
LOCATION:Online
PRIORITY:5
SEQUENCE:0
SUMMARY;LANGUAGE=es-es:Tecnowebinars.com - :: TIBCO Jaspersoft para usuarios de negocio
TRANSP:OPAQUE
UID:dadb43fad2af8c0698d1d3afe723328d Tecnowebinars.com
X-MICROSOFT-CDO-BUSYSTATUS:BUSY
X-MICROSOFT-CDO-IMPORTANCE:1
X-MICROSOFT-DISALLOW-COUNTER:FALSE
X-MS-OLK-ALLOWEXTERNCHECK:TRUE
X-MS-OLK-AUTOFILLLOCATION:FALSE
X-MS-OLK-CONFTYPE:0
BEGIN:VALARM
TRIGGER:-PT1440M
ACTION:DISPLAY
DESCRIPTION:Reminder
END:VALARM
END:VEVENT
END:VCALENDAR
