BEGIN:VCALENDAR
PRODID:-//Microsoft Corporation//Outlook 12.0 MIMEDIR//EN
VERSION:2.0
METHOD:PUBLISH
X-MS-OLK-FORCEINSPECTOROPEN:TRUE
BEGIN:VEVENT
CLASS:PUBLIC
CREATED:20260419T162331Z
DESCRIPTION:Delivering fast results requires transforming your finance processes and optimizing your finance automation. At the same time, legacy technologies entrenched in your company's tech stack don't always play nicely with modern analytics technologies. So how do you maximize your ROI and digitally transform your finance department? With RPA and Analytic Process Automation (APA).\n \nRPA and APA can help bridge the gap between legacy technologies and modern analytic processes, accelerate insights, automate finances workflows, and deliver immediate business outcomes. Join this session to uncover the complementary use of both technologies and key collaboration points between Automation Centers of Excellence and Finance teams today. Learn new ways to accelerate your time-to-value for your digital transformation efforts.\n \nJoin to learn:\n \nHow Alteryx works with RPA\n \nWhen to use APA and RPA for finance automation\n \nCollaboration best practices for lines of business and COE\n
DTSTART:20201014T140000
DTEND:20201014T150000
DTSTAMP:20260419T162331Z
LOCATION:Online
PRIORITY:5
SEQUENCE:0
SUMMARY;LANGUAGE=es-es:Tecnowebinars.com - :: Finance Transformation With Alteryx + Rpa: From Business Silos To Intelligent Automation
TRANSP:OPAQUE
UID:ead5c08438c97461c39ecdf303a7cbaa Tecnowebinars.com
X-MICROSOFT-CDO-BUSYSTATUS:BUSY
X-MICROSOFT-CDO-IMPORTANCE:1
X-MICROSOFT-DISALLOW-COUNTER:FALSE
X-MS-OLK-ALLOWEXTERNCHECK:TRUE
X-MS-OLK-AUTOFILLLOCATION:FALSE
X-MS-OLK-CONFTYPE:0
BEGIN:VALARM
TRIGGER:-PT1440M
ACTION:DISPLAY
DESCRIPTION:Reminder
END:VALARM
END:VEVENT
END:VCALENDAR
