BEGIN:VCALENDAR
PRODID:-//Microsoft Corporation//Outlook 12.0 MIMEDIR//EN
VERSION:2.0
METHOD:PUBLISH
X-MS-OLK-FORCEINSPECTOROPEN:TRUE
BEGIN:VEVENT
CLASS:PUBLIC
CREATED:20260419T161313Z
DESCRIPTION:Los vehículos de hoy funcionan con varias tecnologías de conectividad diferentes, como redes celulares, bluetooth, wifi, entradas sin llave. Si también incluimos la conducción autónoma en la ecuación, más una vida útil estimada de unos 10 años, resulta que los coches son muy vulnerables a los ciberataques.\nEn este Webinar se demostrará que la piratería de coches ya no es una prueba de concepto y la importancia de la ciberseguridad en los vehículos.\nTemas clave y conclusiones:\n \n-Introducción: ¿Por qué es necesaria la Ciberseguridad en el vehículo?\n \n-Factores clave asociados con los ataques a vehículos\n \n-Car Hacking Lab: ejemplos prácticos\n \n-Evaluación y mitigación de vulnerabilidades\n \nSpeakers:\nBelén Andrino, jefa de Desarrollo de Negocio de Automoción en GMV\nMarco Donadio, jefe de proyecto de Ciberseguridad y jefe de Desarrollo de Negocio de Automoción en GMV\n \n
DTSTART:20200930T160000
DTEND:20200930T170000
DTSTAMP:20260419T161313Z
LOCATION:Online
PRIORITY:5
SEQUENCE:0
SUMMARY;LANGUAGE=es-es:Tecnowebinars.com - :: Las vulnerabilidades de los vehículos conectados
TRANSP:OPAQUE
UID:fcc0bf680a43e8212995f6a70da2d0e3 Tecnowebinars.com
X-MICROSOFT-CDO-BUSYSTATUS:BUSY
X-MICROSOFT-CDO-IMPORTANCE:1
X-MICROSOFT-DISALLOW-COUNTER:FALSE
X-MS-OLK-ALLOWEXTERNCHECK:TRUE
X-MS-OLK-AUTOFILLLOCATION:FALSE
X-MS-OLK-CONFTYPE:0
BEGIN:VALARM
TRIGGER:-PT1440M
ACTION:DISPLAY
DESCRIPTION:Reminder
END:VALARM
END:VEVENT
END:VCALENDAR
