BEGIN:VCALENDAR
PRODID:-//Microsoft Corporation//Outlook 12.0 MIMEDIR//EN
VERSION:2.0
METHOD:PUBLISH
X-MS-OLK-FORCEINSPECTOROPEN:TRUE
BEGIN:VEVENT
CLASS:PUBLIC
CREATED:20260419T172322Z
DESCRIPTION:Join us to discuss some of the major trends shaping the news industry as we go into 2021: automated content, advertising in a cookie-free world, and how to monetise the long tail of readers who might never subscribe.\nSpeakers:\n-Cecilia Campbell\nChief Marketing Officer United Robots\nUK\n-Dominic Young\nCEO Axate\nUK\n-Olaf Peters-Kim\nCo-Founder Welect\nGermany\n \n
DTSTART:20200930T150000
DTEND:20200930T160000
DTSTAMP:20260419T172322Z
LOCATION:Online
PRIORITY:5
SEQUENCE:0
SUMMARY;LANGUAGE=es-es:Tecnowebinars.com - :: Changemakers: The startups changing the news industry
TRANSP:OPAQUE
UID:a0d2212960d560cd7a66983e8fb59152 Tecnowebinars.com
X-MICROSOFT-CDO-BUSYSTATUS:BUSY
X-MICROSOFT-CDO-IMPORTANCE:1
X-MICROSOFT-DISALLOW-COUNTER:FALSE
X-MS-OLK-ALLOWEXTERNCHECK:TRUE
X-MS-OLK-AUTOFILLLOCATION:FALSE
X-MS-OLK-CONFTYPE:0
BEGIN:VALARM
TRIGGER:-PT1440M
ACTION:DISPLAY
DESCRIPTION:Reminder
END:VALARM
END:VEVENT
END:VCALENDAR
