BEGIN:VCALENDAR
PRODID:-//Microsoft Corporation//Outlook 12.0 MIMEDIR//EN
VERSION:2.0
METHOD:PUBLISH
X-MS-OLK-FORCEINSPECTOROPEN:TRUE
BEGIN:VEVENT
CLASS:PUBLIC
CREATED:20260419T171045Z
DESCRIPTION:La consultora colombiana especializada en bi y analítica IT-Nova te invita a conocer la historia detrás de tus datos, simular escenarios y predecir resultados futuros con SAP Analytics Cloud.\nEn el webinar se explicará las posibilidades del software para:\n             - Combinar las capacidades de BI, planificación, analíticas predictivas y aumentadas.\n             - Obtener información estratégica y tome medidas en el contexto de los procesos de negocio.\n             - Capacidades de BI y analítica aumentada para explorar y entender tus datos con SAP Analytics Cloud.\n             - Tomar decisiones estratégicas basadas en funciones de Planning para finanzas y presupuesto. \n             - Responder las preguntas más complejas de tu negocio utilizando modelos de analítica predictiva a pocos clicks de distancia en SAP Analytics Cloud. \n
DTSTART:20200923T160000
DTEND:20200923T170000
DTSTAMP:20260419T171045Z
LOCATION:Online
PRIORITY:5
SEQUENCE:0
SUMMARY;LANGUAGE=es-es:Tecnowebinars.com - :: Analítica predictiva de negocio con SAP Analytics Cloud
TRANSP:OPAQUE
UID:0c9c7b8689b47bf8f68b0c678fb90df4 Tecnowebinars.com
X-MICROSOFT-CDO-BUSYSTATUS:BUSY
X-MICROSOFT-CDO-IMPORTANCE:1
X-MICROSOFT-DISALLOW-COUNTER:FALSE
X-MS-OLK-ALLOWEXTERNCHECK:TRUE
X-MS-OLK-AUTOFILLLOCATION:FALSE
X-MS-OLK-CONFTYPE:0
BEGIN:VALARM
TRIGGER:-PT1440M
ACTION:DISPLAY
DESCRIPTION:Reminder
END:VALARM
END:VEVENT
END:VCALENDAR
