BEGIN:VCALENDAR
PRODID:-//Microsoft Corporation//Outlook 12.0 MIMEDIR//EN
VERSION:2.0
METHOD:PUBLISH
X-MS-OLK-FORCEINSPECTOROPEN:TRUE
BEGIN:VEVENT
CLASS:PUBLIC
CREATED:20260419T162331Z
DESCRIPTION:Tradeshift es una plataforma para la automatización de las relaciones con los proveedores que integra varios módulos:\n- Buy, un marketplace B2B que en la actualidad tiene más de 1 millón de empresas, para hacer compras B2B con la facilidad de las compra B2C\n- Pay, para la gestión de las Facturas y módulo en el que nos centraremos en este webinar\n- Engage. Cuadro de mandos con información para el proveedor sobre pago de facturas, volúmen de transacciones....\n- Cash, solución que agiliza el pago a los proveedores \n- Go, una tarjeta virtual para compras por parte de los empleados\nEn el webinar haremos una introducción a la plataforma, explicaremos algunos casos de uso de la misma y haremos una demo de cómo recibimos facturas de proveedor y las integramos nativamente, en este caso, con SAP.\nHarán la presentación dos empleados de Brait, consultora especializada en Facturas por Pagar y distribuidora en España y Latinoamérica de la Solución. \n
DTSTART:20201008T160000
DTEND:20201008T170000
DTSTAMP:20260419T162331Z
LOCATION:Online
PRIORITY:5
SEQUENCE:0
SUMMARY;LANGUAGE=es-es:Tecnowebinars.com - :: Automatización con IA de Facturas de Proveedor con Tradeshift. Intro y demo.
TRANSP:OPAQUE
UID:c646ee18e7c736ff9e246f048aa05a81 Tecnowebinars.com
X-MICROSOFT-CDO-BUSYSTATUS:BUSY
X-MICROSOFT-CDO-IMPORTANCE:1
X-MICROSOFT-DISALLOW-COUNTER:FALSE
X-MS-OLK-ALLOWEXTERNCHECK:TRUE
X-MS-OLK-AUTOFILLLOCATION:FALSE
X-MS-OLK-CONFTYPE:0
BEGIN:VALARM
TRIGGER:-PT1440M
ACTION:DISPLAY
DESCRIPTION:Reminder
END:VALARM
END:VEVENT
END:VCALENDAR
