BEGIN:VCALENDAR
PRODID:-//Microsoft Corporation//Outlook 12.0 MIMEDIR//EN
VERSION:2.0
METHOD:PUBLISH
X-MS-OLK-FORCEINSPECTOROPEN:TRUE
BEGIN:VEVENT
CLASS:PUBLIC
CREATED:20260419T155144Z
DESCRIPTION: \nMarketers know that consumer insights can make all the difference when launching new products to the market. A few years ago, focus groups with dozens of people were used to get this information. In 2020, this sounds old fashioned and enterprises now look to leverage digital data. \n \nBut what if they could analyse the conversations held with every one of their customers – 24/7/365 and potentially across millions of users - all in a way that is fully compliant with GDPR? Conversational AI makes this a reality as one-on-one communications become digitalised.\n \nIn this webinar, Carmen will demonstrate how advanced conversational data intelligence is achieved with Teneo, the leading conversational AI platform for enterprise. \n \nShe will explain how to make the most of existing unstructured data within your conversational AI platform and explore how you can learn from digitalised dialogs between customers and bots. She will also discuss how to ensure your Conversational AI chatbots can work within the constraints of privacy regulations such as GDPR and CCPA.\n \nSpeaker:\nCarmen Del Solar, Conversational AI Engineer\n
DTSTART:20201014T170000
DTEND:20201014T173000
DTSTAMP:20260419T155144Z
LOCATION:Online
PRIORITY:5
SEQUENCE:0
SUMMARY;LANGUAGE=es-es:Tecnowebinars.com - :: Achieving Competitive Advantage through Conversational Data Intelligence
TRANSP:OPAQUE
UID:358673f7c1fc462d4c84102598f9688c Tecnowebinars.com
X-MICROSOFT-CDO-BUSYSTATUS:BUSY
X-MICROSOFT-CDO-IMPORTANCE:1
X-MICROSOFT-DISALLOW-COUNTER:FALSE
X-MS-OLK-ALLOWEXTERNCHECK:TRUE
X-MS-OLK-AUTOFILLLOCATION:FALSE
X-MS-OLK-CONFTYPE:0
BEGIN:VALARM
TRIGGER:-PT1440M
ACTION:DISPLAY
DESCRIPTION:Reminder
END:VALARM
END:VEVENT
END:VCALENDAR
