BEGIN:VCALENDAR
PRODID:-//Microsoft Corporation//Outlook 12.0 MIMEDIR//EN
VERSION:2.0
METHOD:PUBLISH
X-MS-OLK-FORCEINSPECTOROPEN:TRUE
BEGIN:VEVENT
CLASS:PUBLIC
CREATED:20260419T162428Z
DESCRIPTION:APD te invita a un nuevo encuentro digital en el que los mejores expertos darán las claves para poner en marcha acciones encaminadas a reducir costes que maximicen la liquidez de la empresa y aseguren así su estabilidad.\nTe interesa acceder si:\n \nSi quieres saber cómo reducir gastos de manera rápida y sostenible, sin afectar a los recursos productivos/plantilla.\n \nSi quieres conocer el papel estratégico que juegan los departamentos de compras para superar esta crisis.\n \nSi quieres conocer algunos ejemplos de acciones de reducción de costes (que no afectan a las plantillas) que están tomando algunas de las empresas más importantes del país.\n
DTSTART:20200930T100000
DTEND:20200930T110000
DTSTAMP:20260419T162428Z
LOCATION:Online
PRIORITY:5
SEQUENCE:0
SUMMARY;LANGUAGE=es-es:Tecnowebinars.com - :: La eficiencia en el gasto como palanca de la competitividad empresarial
TRANSP:OPAQUE
UID:89234ca15df86456ebf48a29c461c566 Tecnowebinars.com
X-MICROSOFT-CDO-BUSYSTATUS:BUSY
X-MICROSOFT-CDO-IMPORTANCE:1
X-MICROSOFT-DISALLOW-COUNTER:FALSE
X-MS-OLK-ALLOWEXTERNCHECK:TRUE
X-MS-OLK-AUTOFILLLOCATION:FALSE
X-MS-OLK-CONFTYPE:0
BEGIN:VALARM
TRIGGER:-PT1440M
ACTION:DISPLAY
DESCRIPTION:Reminder
END:VALARM
END:VEVENT
END:VCALENDAR
