BEGIN:VCALENDAR
PRODID:-//Microsoft Corporation//Outlook 12.0 MIMEDIR//EN
VERSION:2.0
METHOD:PUBLISH
X-MS-OLK-FORCEINSPECTOROPEN:TRUE
BEGIN:VEVENT
CLASS:PUBLIC
CREATED:20260419T172323Z
DESCRIPTION:Fujitsu ActivateNow tendrá lugar el 14 y 15 de octubre de 2020. El programa del evento está diseñado para satisfacer las expectativas y necesidades cambiantes de las empresas en su transformación e innovación digital.\nLa multinacional cree que la recuperación colectiva de la sociedad ante la pandemia del COVID-19 estará impulsada por el Human Centric Innovation, la transformación digital y la confianza. Por consiguiente, el tema principal de Fujitsu ActivateNow es la "Confianza".\nDiseñado para permitir a las empresas explorar cómo pueden reimaginar su forma de operar, el programa de conferencias del Fujitsu ActivateNow pretende ser un catalizador para que las organizaciones den el siguiente paso en sus procesos de transformación digital. \n
DTSTART:20200915T100000
DTEND:20200915T040000
DTSTAMP:20260419T172323Z
LOCATION:Online
PRIORITY:5
SEQUENCE:0
SUMMARY;LANGUAGE=es-es:Tecnowebinars.com - :: Fujitsu ActivateNow. Día 2
TRANSP:OPAQUE
UID:19f81d3753dc8e809e057b44185c6e0b Tecnowebinars.com
X-MICROSOFT-CDO-BUSYSTATUS:BUSY
X-MICROSOFT-CDO-IMPORTANCE:1
X-MICROSOFT-DISALLOW-COUNTER:FALSE
X-MS-OLK-ALLOWEXTERNCHECK:TRUE
X-MS-OLK-AUTOFILLLOCATION:FALSE
X-MS-OLK-CONFTYPE:0
BEGIN:VALARM
TRIGGER:-PT1440M
ACTION:DISPLAY
DESCRIPTION:Reminder
END:VALARM
END:VEVENT
END:VCALENDAR
