BEGIN:VCALENDAR
PRODID:-//Microsoft Corporation//Outlook 12.0 MIMEDIR//EN
VERSION:2.0
METHOD:PUBLISH
X-MS-OLK-FORCEINSPECTOROPEN:TRUE
BEGIN:VEVENT
CLASS:PUBLIC
CREATED:20260419T161259Z
DESCRIPTION:VER EL VIDEO\nEl ponente tiene una importante experiencia en ganar subvenciones y ayudas en proyectos de I+D+I en España dónde las ayudas pueden llegar a cubrir más del 80% del proyecto. \nEn este webinar tratará de explicar qué considera la Administración "Innovación" y qué no, cuales son las claves para ganar las Ayudas y qué organismos estatales o regionales otorgan esas ayudas. \nSe estima que en los próximos 2 años las ayudas a la innovación crecerán a casi el doble de lo actual.\nSin embargo, el proceso de solicitud de ayudas sigue siendo un filtro importante a la hora de solicitarlas: preparación de documentación, definición del proyecto y, sobre todo, la realización de la memoria técnico-económica que es el documento definitivo en el que se basa el evaluador para aprobarnos o no la ayuda\nEn el webinar analizaremos las ayudas e incentivos actuales, qué estrategia utilizar para ahorrar hasta un 80% del coste de la inversión en I+D+i, qué diferencias hay entre las distintas líneas y cómo realizar una memoria de éxito que garantice la aprobación del proyecto.\nCon más de 11 años de experiencia en ayudas y un 97% de éxito, TIC Management, empresa de ámbito nacional respaldada por los principales despachos de asesoría fiscal, realizará la presente ponencia.\nAgenda del webinar:\n- Coyuntura Actual y Previsiones\n- Estrategia de I+D+i y generación de ahorros del 80%\n- Líneas actuales de ayudas\n- Deducciones y Bonificaciones\n- Realización de una solicitud de ayuda con éxito: la memoria técnico económica\n- Preguntas \nVER EL VIDEO\n
DTSTART:20201021T173000
DTEND:20201021T183000
DTSTAMP:20260419T161259Z
LOCATION:Online
PRIORITY:5
SEQUENCE:0
SUMMARY;LANGUAGE=es-es:Tecnowebinars.com - :: Ayudas a la Innovación en España: cómo tener éxito en la solicitud
TRANSP:OPAQUE
UID:a78647004f8f14f2e5676bdc119603d0 Tecnowebinars.com
X-MICROSOFT-CDO-BUSYSTATUS:BUSY
X-MICROSOFT-CDO-IMPORTANCE:1
X-MICROSOFT-DISALLOW-COUNTER:FALSE
X-MS-OLK-ALLOWEXTERNCHECK:TRUE
X-MS-OLK-AUTOFILLLOCATION:FALSE
X-MS-OLK-CONFTYPE:0
BEGIN:VALARM
TRIGGER:-PT1440M
ACTION:DISPLAY
DESCRIPTION:Reminder
END:VALARM
END:VEVENT
END:VCALENDAR
