BEGIN:VCALENDAR
PRODID:-//Microsoft Corporation//Outlook 12.0 MIMEDIR//EN
VERSION:2.0
METHOD:PUBLISH
X-MS-OLK-FORCEINSPECTOROPEN:TRUE
BEGIN:VEVENT
CLASS:PUBLIC
CREATED:20260419T131635Z
DESCRIPTION:Manufacturing & Technology connects manufacturers with innovative solutions and insights from top industry experts to help them successfully navigate today’s rapid digital evolution. Presented by IndustryWeek, the trusted voice in manufacturing leadership.\n
DTSTART:20201201T170000
DTEND:20201201T000000
DTSTAMP:20260419T131635Z
LOCATION:Online
PRIORITY:5
SEQUENCE:0
SUMMARY;LANGUAGE=es-es:Tecnowebinars.com - :: Manufacturing & Technology Goes Virtual in 2020
TRANSP:OPAQUE
UID:6ed7c004ce19b4ddbdd194ba2c5744ca Tecnowebinars.com
X-MICROSOFT-CDO-BUSYSTATUS:BUSY
X-MICROSOFT-CDO-IMPORTANCE:1
X-MICROSOFT-DISALLOW-COUNTER:FALSE
X-MS-OLK-ALLOWEXTERNCHECK:TRUE
X-MS-OLK-AUTOFILLLOCATION:FALSE
X-MS-OLK-CONFTYPE:0
BEGIN:VALARM
TRIGGER:-PT1440M
ACTION:DISPLAY
DESCRIPTION:Reminder
END:VALARM
END:VEVENT
END:VCALENDAR
